Workbook
Name __shared_1_0_0: NA()
Name __shared_1_1_0: NA()
Name __shared_1_2_0: NA()
Name __shared_1_3_0: NA()
Name __shared_1_4_0: NA()
Name __shared_1_5_0: NA()
Name __shared_1_6_0: NA()
Name __shared_1_7_0: NA()
Name __shared_1_8_0: NA()
Name _Hlk44662079: Naslovnica!$B$9
Name kk_1: #REF!
Name kk1i: #REF!
Name kk1p: #REF!
Name kk1v: #REF!
Name kk2i: #REF!
Name kk2p: #REF!
Name kk2v: #REF!
Name kk3i: #REF!
Name kk3p: #REF!
Name kk3v: #REF!
Name kk4i: #REF!
Name kk4p: #REF!
Name kk4v: #REF!
Name kk5i: #REF!
Name kk5p: #REF!
Name kk5v: #REF!
Name kk6i: #REF!
Name kk6p: #REF!
Name kk6v: #REF!
Name krov: #REF!
Name krov_1: #REF!
Name krov_2: #REF!
Name rk_1: #REF!
Name rk1v: #REF!
Name rkh: #REF!
Name rkv: #REF!
Name SHARED_FORMULA_10_103_10_103_2: NA()
Name SHARED_FORMULA_10_39_10_39_2: NA()
Name SHARED_FORMULA_11_103_11_103_2: NA()
Name SHARED_FORMULA_11_39_11_39_2: NA()

Sheet Naslovnica
A4: Naziv projektantskog ureda: | B4: NORD-ING d.o.o.
B5: Putjane 15
B6: 40000 Čakovec
A9: Naručitelj: | B9: GRAD ČAKOVEC
B10: Ulica kralja Tomislava 15
B11: 40 000 Čakovec
B12: Međimurska županija
A14: Naziv građevine: | B14: REKONSTRUKCIJA (DOGRADNJA) OSNOVNE ŠKOLE IVANOVEC
A17: Vrsta projekta: | B17: TROŠKOVNIK RADOVA
A20: Lokacija | B20: k.č.br. 96/59; k.o. Ivanovec
B21: Ivanovec
B22: Međimurska županija
A24: Zajednička oznaka projekta: | B24: NI-151/2025
A27: Glavni projektant: | B27: Marina Mrla, mag.ing.arch.
A40: Mjesto i datum: | B40: Čakovec, 6.2025

Sheet rekapitualcija_dogradnja
B1: REKAPITUALCIJA SVIH RADOVA
A4: A. | B4: GRAĐEVINSKO-OBRTNIČKI RADOVI | C4: ='a. građevinsko obrtnički'!$F$30 -> 0
A6: B. | B6: VODOVOD I ODVODNJA | C6: ='b. vodovod i odvodnja'!F11 -> 0
A8: C. | B8: ELEKTROINSTALACIJE | C8: ='c. elektro radovi'!F12 -> 0
A10: D. | B10: STROJARSKI RADOVI | C10: ='d. strojarski'!F8 -> 0
A12: E. | B12: VANJSKO UREĐENJE | C12: ='e.vanjsko uređenje'!F24 -> 0
A14: F. | B14: DIZALO | C14: =f.dizalo!F4 -> 0
B17: UKUPNO bez PDV-a: | C17: =SUM(C4:C14) -> 0
B19: PDV 25% | C19: =ROUND(C17*0.25,2) -> 0
B21: SVEUKUPNO - s PDV-om: | C21: =C17+C19 -> 0

Sheet a. građevinsko obrtnički
B1: GRAĐEVINSKO-OBRTNIČKI RADOVI REKAPITULACIJA
A3: A.1 | B3: GRAĐEVINSKI RADOVI
A5: =A174 -> 1.0 | B5: =B174 -> PRIPRENI RADOVI, DEMONTAŽE I RUŠENJA UKUPNO: | F5: =F174 -> 0
A6: =A215 -> 2.0 | B6: =B215 -> ZEMLJANI RADOVI UKUPNO: | F6: =F215 -> 0
A7: =A366 -> 3.0 | B7: =B366 -> BETONSKI I ARMIRANOBETONSKI RADOVI UKUPNO: | F7: =F366 -> 0
A8: =A527 -> 4.0 | B8: =B527 -> ZIDARSKI RADOVI UKUPNO: | F8: =F527 -> 0
A9: =A548 -> 5.0 | B9: =B548 -> TESARSKI RADOVI UKUPNO: | F9: =F548 -> 0
A11: A.1. | B11: GRAĐEVINSKI RADOVI UKUPNO | F11: =SUM(F5:F10) -> 0
A14: A.2 | B14: OBRTNIČKI RADOVI
A16: =A782 -> 1.0 | B16: =B782 -> IZOLATERSKI RADOVI UKUPNO: | F16: =F782 -> 0
A17: =A834 -> 2.0 | B17: =B834 -> FASADERSKI RADOVI UKUPNO: | F17: =F834 -> 0
A18: =A941 -> 3.0 | B18: =B941 -> GIPSKARTONSKI RADOVI UKUPNO: | F18: =F941 -> 0
A19: =A1092 -> 4.0 | B19: =B1092 -> VANJSKA STOLARIJA UKUPNO: | F19: =F1092 -> 0
A20: =A1146 -> 5.0 | B20: =B1146 -> UNUTARNJA STOLARIJA UKUPNO: | F20: =F1146 -> 0
A21: =A1182 -> 6.0 | B21: =B1182 -> BRAVARSKI RADOVI UKUPNO: | F21: =F1182 -> 0
A22: =A1216 -> 7.0 | B22: =B1216 -> LIMARSKI RADOVI UKUPNO: | F22: =F1216 -> 0
A23: =A1251 -> 8.0 | B23: =B1251 -> KERAMIČARSKI RADOVI UKUPNO: | F23: =F1251 -> 0
A24: =A1265 -> 9.0 | B24: =B1265 -> PODOPOLAGAČKI RADOVI UKUPNO: | F24: =F1265 -> 0
A25: =A1301 -> 10.0 | B25: =B1301 -> SOBOSLIKARSKO-LIČILAČKI RADOVI UKUPNO: | F25: =F1301 -> 0
A26: =A1315 -> 11.0 | B26: =B1315 -> OSTALI RADOVI UKUPNO: | F26: =F1315 -> 0
A28: A.2. | B28: OBRTNIČKI RADOVI UKUPNO | F28: =SUM(F16:F26) -> 0
A30: A1 i A2 | B30: GRAĐEVINSKO-OBRTNIČKI RADOVI UKUPNO: | F30: =F28+F11 -> 0
B32: PDV 25% | F32: =ROUND(F30*0.25,2) -> 0
B34: SVEUKUPNO EUR: | F34: =SUM(F30:F33) -> 0
B36: TROŠKOVNIK GRAĐEVINSKO - OBRTNIČKIH RADOVA
A38: R.br. | B38: Opis stavke | C38: JM | D38: količina | E38: JC (EUR) | F38: UC (EUR)
B40: Opći uvjeti su sastavni dio troškovnika
A44: A. | B44: GRAĐEVINSKO - OBRTNIČKI RADOVI
A46: A1. | B46: GRAĐEVINSKI RADOVI
B48: NAPOMENA:
B49: Sva rušenja i razgradnje pojedinih dijelova građevine izvoditi pažljivo, isključivo ručno, sa što manje buke i prašine. Tokom rušenja potrebno je polijevati dijelove koji se ruše.
B50: Zabranjena je upotreba teških alata, kompresora ili sličnih uređaja koji mogu posredno prouzročiti štetu na konstruktivnim dijelovima građevine.
B51: Rušenja izvoditi tek kada su izvršena sva potrebna rasterećenja, podupiranja i osiguranja.
B52: Ako se prilikom rušenja i razgrađivanja naiđe na nepredviđene detalje ili se uoče opasnosti od zabušavanja ili ugrožavanja okolnih elemenata građevine, izvođač je dužan o tome odmah obavijestiti nadzornog inženjera.
B53: Prije početka rušenja i demontaža kvalificirana, stručna osoba mora odpojiti sve instalacije i osigurati gradilište.
B54: U jedinične cijene svake pojedine stavke uključiti radnu skelu te zaštitnu ogradu.
B55: Prije izrade ponude izvođač je dužan obići i pregledati građevinu zbog radova obuhvaćenih troškovnikom, uvjeta organizacije gradilišta, načina i mogućnosti pristupa građevini, mogućnosti zauzimanja javne površine, postave skele, osiguranja ulaza u građevinu i sl.
B56: Prema tome, ponuđena cijena je konačna cijena za realizaciju pojedine troškovničke stavke i ne može se mijenjati.
B57: Prije početka radova POTREBNO JE na terenu sagledati stanje u naravi te dogovoriti tijek izvođenja radova.
B58: Napomena: Prilikom demontaža i rušenja izvođač je dužan voditi računa da ne ošteti građevinske elemente koji nisu predmet zahvata. Osobito treba obratiti pažnju na instalacije koje se zadržavaju. Zaštita primjerenom metodom je uključena u cijenu svake pojedine stavke. Trošak svih nepredviđenih nastalih oštećenja snosi izvođač radova.
...

Sheet b. vodovod i odvodnja
B1: VODOVOD I ODVODNJA REKAPITULACIJA
B4: =B24 -> INSTALACIJE VODOVODA I KANALIZACIJE UNUTAR GRAĐEVINE
A5: =A89 -> 1. | B5: =B89 -> GRAĐEVINSKI RADOVI UKUPNO: | F5: =F89 -> 0
A6: =A169 -> 2. | B6: =B169 -> VODOVOD UKUPNO: | F6: =F169 -> 0
A7: =A271 -> 3. | B7: =B271 -> KANALIZACIJA UKUPNO: | F7: =F271 -> 0
A8: =A301 -> 4. | B8: =B301 -> SANITARIJE UKUPNO: | F8: =F301 -> 0
B11: VODOVOD I ODVODNJA UKUPNO | F11: =SUM(F3:F9) -> 0
B13: PDV 25% | F13: =ROUND(F11*0.25,2) -> 0
B15: SVEUKUPNO EUR: | F15: =SUM(F11:F14) -> 0
B19: TROŠKOVNIK VODOVODA I ODVODNJE
A21: R.br. | B21: Opis stavke | C21: JM | D21: količina | E21: JC (EUR) | F21: UC (EUR)
B24: INSTALACIJE VODOVODA I KANALIZACIJE UNUTAR GRAĐEVINE
A26: 1 | B26: GRAĐEVINSKI RADOVI
A28: 1 | B28: Ručni i djelomično strojni iskop rova za polaganje vodovodnih i kanalizacijskih cijevi na dubinu do 1,0 m. Iskopani materijal odbacivati na udaljenost do 1,0 m od bočne ivice rova, da se spriječi urušavanje iskopanog materijala u rov. U cijeni iskopa i potrebno crpljenje podzemne vode. Iskop od objekta do prvog revizijskog okna. U cijenu iskopa uračunati planiranje dna rova.
A29: 1.1.1. | B29: strojni iskop | C29: m3 | D29: 80.65 | F29: =IF(D29="","",ROUND(D29*ROUND(E29,2),2)) -> 0
A30: 1.1.2. | B30: ručni iskop | C30: m3 | D30: 20.15 | F30: =IF(D30="","",ROUND(D30*ROUND(E30,2),2)) -> 0
A32: 2 | B32: Dobava pijeska granulacije 0-8 mm, ubacivanje u rov, te izrada pješčane posteljice na dnu rova, u sloju od 10 cm.
C33: m3 | D33: 12.6 | F33: =IF(D33="","",ROUND(D33*ROUND(E33,2),2)) -> 0
A35: =A32+1 -> 3 | B35: Dobava pijeska granulacije 0-8 mm, ubacivanje u rov te zatrpavanje istim do visine 15 cm iznad tjemena cijevi.
C36: m3 | D36: 50.4 | F36: =IF(D36="","",ROUND(D36*ROUND(E36,2),2)) -> 0
A38: =A35+1 -> 4 | B38: Zatrpavanje rova materijalom od iskopa, u slojevima od 30,0 cm, uz istovremeno obilno močenje i nabijanje svakog sloja nasutog materijala ručnim odnosno strojnim nabijačima, zbijenost Ms=40 MN/m2.
C39: m3 | D39: 16.45 | F39: =IF(D39="","",ROUND(D39*ROUND(E39,2),2)) -> 0
A41: =A38+1 -> 5 | B41: Zatrpavanje rova šljunčanim materijalom granulacije 0-63 mm , u slojevima od 30,0 cm, uz istovremeno obilno močenje i nabijanje svakog sloja nasutog materijala ručnim odnosno strojnim nabijačima, zbijenost Ms=80 MN/m2.
C42: m3 | D42: 21.3 | F42: =IF(D42="","",ROUND(D42*ROUND(E42,2),2)) -> 0
A44: =A41+1 -> 6 | B44: Odvoz materijala preostalog od iskopa na gradsku deponiju udaljenu 15 km. U cijeni utovar materijala na kamion, istovar i planiranje na deponiji.
C45: m3 | D45: 84.4 | F45: =IF(D45="","",ROUND(D45*ROUND(E45,2),2)) -> 0
A47: =A44+1 -> 7 | B47: Izvedba šliceva u zidu od opeke i u dijelovima AB zida, za polaganje vodovodnih i kanalizacijskih cijevi.
A48: 1 | B48: šlic vel. 10x8 cm | C48: m1 | D48: 15 | F48: =IF(D48="","",ROUND(D48*ROUND(E48,2),2)) -> 0
A49: 2 | B49: šlic vel. 10x10 cm | C49: m1 | D49: 5 | F49: =IF(D49="","",ROUND(D49*ROUND(E49,2),2)) -> 0
A50: 3 | B50: šlic vel. 15x10 cm | C50: m1 | D50: 10 | F50: =IF(D50="","",ROUND(D50*ROUND(E50,2),2)) -> 0
A51: 4 | B51: šlic vel. 15x15 cm | C51: m1 | D51: 20 | F51: =IF(D51="","",ROUND(D51*ROUND(E51,2),2)) -> 0
A52: 5 | B52: šlic vel. 20x20 cm | C52: m1 | D52: 5 | F52: =IF(D52="","",ROUND(D52*ROUND(E52,2),2)) -> 0
A54: =A47+1 -> 8 | B54: Zidarsko zatvaranje šliceva nakon ugradnje cijevi.
A55: 1 | B55: zidarsko zatvaranje šliceva vel. 10x8 cm | C55: m1 | D55: 15 | F55: =IF(D55="","",ROUND(D55*ROUND(E55,2),2)) -> 0
A56: 2 | B56: zidarsko zatvaranje šliceva vel. 10x10 cm | C56: m1 | D56: 5 | F56: =IF(D56="","",ROUND(D56*ROUND(E56,2),2)) -> 0
A57: 3 | B57: zidarsko zatvaranje šliceva vel. 15x10 cm | C57: m1 | D57: 10 | F57: =IF(D57="","",ROUND(D57*ROUND(E57,2),2)) -> 0
A58: 4 | B58: zidarsko zatvaranje šliceva vel. 15x15 cm | C58: m1 | D58: 20 | F58: =IF(D58="","",ROUND(D58*ROUND(E58,2),2)) -> 0
A59: 5 | B59: zidarsko zatvaranje šliceva vel. 20x20 cm | C59: m1 | D59: 5 | F59: =IF(D59="","",ROUND(D59*ROUND(E59,2),2)) -> 0
A61: =A54+1 -> 9 | B61: Izvedba prodora kroz temeljne zidove građevine, zidove i stropove građevine za polaganje vodovodnih i kanalizacijskih cijevi. U oplatu armiranobetonskih elemenata postavljaju se drvene kutije.
A62: 1 | B62: prodor veličine od 0,0 do 0,04 m2 | C62: kom | D62: 2 | F62: =IF(D62="","",ROUND(D62*ROUND(E62,2),2)) -> 0
...

Sheet c. elektro radovi
B1: ELEKTROINSTALACIJE
A4: =A222 -> 1.0 | B4: =B222 -> ELEKTROENERGETSKE INSTALACIJE UKUPNO: | F4: =F222 -> 0
A5: =A277 -> 2.0 | B5: =B277 -> RASVJETNA TIJELA UKUPNO: | F5: =F277 -> 0
A6: =A327 -> 3.0 | B6: =B327 -> INSTALACIJE KOMUNIKACIJE UKUPNO: | F6: =F327 -> 0
A7: =A342 -> 4.0 | B7: =B342 -> RTV INSTALACIJA UKUPNO: | F7: =F342 -> 0
A8: =A416 -> 5.0 | B8: =B416 -> VATRODOJAVA UKUPNO: | F8: =F416 -> 0
A9: =A448 -> 6.0 | B9: =B448 -> OZVUČENJE UKUPNO: | F9: =F448 -> 0
A10: =A476 -> 7.0 | B10: =B476 -> GROMOBRAN, IZJEDNAČENJE POTENCIJALA UKUPNO: | F10: =F476 -> 0
B12: ELEKTROINSTALACIJE UKUPNO | F12: =SUM(F4:F11) -> 0
B14: PDV 25% | F14: =ROUND(F12*0.25,2) -> 0
B16: SVEUKUPNO EUR: | F16: =SUM(F12:F15) -> 0
B20: TROŠKOVNIK ELEKTROINSTALACIJSKIH RADOVA
A22: R.br. | B22: Opis stavke | C22: JM | D22: količina | E22: JC (EUR) | F22: UC (EUR)
A24: 1.0 | B24: ELEKTROENERGETSKE INSTALACIJE
A26: 1 | B26: Dobava potrebnog materijala i pribora i osiguravanje napajanja električnom energijom za sve sudionike na gradilištu. | C26: kpl | D26: 1 | F26: =IF(E26="","",ROUND(D26*ROUND(E26,2),2))
F27: =IF(E27="","",ROUND(D27*ROUND(E27,2),2))
A28: 2 | B28: Demontaža postojećih svjetiljka na fasadi | C28: kom | D28: 4 | F28: =IF(E28="","",ROUND(D28*ROUND(E28,2),2))
A30: 3 | B30: Dobava potrebnog materijala i pribora i radovi na postojećem GRMO ormaru, radi priključenja razvodnog ormara dogradnje prizemlja R1_d: | F30: =IF(E30="","",ROUND(D30*ROUND(E30,2),2))
B31: detekcija i ispitivanje postojećih strujnih krugova a radi priključenja razvodnog ormara dogradnje (kpl 1) | F31: =IF(E31="","",ROUND(D31*ROUND(E31,2),2))
B32: automatski instalacijski osigurač 80 A/kar. B, 3-p, prekidne moći 10kA (kom 1) | F32: =IF(E32="","",ROUND(D32*ROUND(E32,2),2))
B33: plastični kanali i spojni materijal, vodiči za ožičenje glavnih i pomoćnih strujnih krugova, izolacijske ploče i pregrade (kpl 1) | F33: =IF(E33="","",ROUND(D33*ROUND(E33,2),2))
B34: postavljanje oznaka elemenata razdjelnice u skladu s oznakama na jednopolnoj shemi, natpis upozorenja o prisutnosti napona, o vrsti primijenjene zaštite od previsokog napona dodira, natpis s nazivom razdjelnice, jednopolna shema zaštićena plastičnom folijom, uputstvo za davanje prve pomoći u slučaju udara struje (kpl 1) | F34: =IF(E34="","",ROUND(D34*ROUND(E34,2),2))
B35: provjera ispravnosti montaže, i ispitivanje funkcionalnog djelovanja, izdavanje ispitnog protokola ovlaštenog ispitivača i svih potrebnih certifikata i atesta (kpl 1) | F35: =IF(E35="","",ROUND(D35*ROUND(E35,2),2))
B36: ukupno sve pod rednim brojem 1.3: | C36: kpl | D36: 1 | F36: =IF(E36="","",ROUND(D36*ROUND(E36,2),2))
F37: =IF(E37="","",ROUND(D37*ROUND(E37,2),2))
A38: 4 | B38: Dobava, montaža, i spajanje razdjelnice dogradnje prizemlja R1_d, izrađene kao zidni ugradni ormar sa mogućnošću ugradnje minimalno 96 modula i sa mogućošću ugradnje 4 signalne žaruljice na vratima. Ormar opremiti sa: | F38: =IF(E38="","",ROUND(D38*ROUND(E38,2),2))
B39: razvodni ormar prema gornjem opisu (kpl 1) | F39: =IF(E39="","",ROUND(D39*ROUND(E39,2),2))
B40: tropolni kompaktni prekidač s termo-magnetskim okidačem, podesive zaštita od preopterećenja min. 0,7-1xIn, 80A, 3-p, min. 16kA, 400/230V (kpl 1) | F40: =IF(E40="","",ROUND(D40*ROUND(E40,2),2))
B41: tipkalo za isključenje glavne sklopke, s ravnom tipkom, crveno, ugradnja na vratima (kom 1) | F41: =IF(E41="","",ROUND(D41*ROUND(E41,2),2))
B42: katodni odvodnik prenapona kl. B+C, 25 kA po polu, 100/275, 4+0 (kom 1) | F42: =IF(E42="","",ROUND(D42*ROUND(E42,2),2))
B43: zaštitni uređaj diferencijalne struje greške (ZUDS), 40A, 30 mA, 4-p (kom 2) | F43: =IF(E43="","",ROUND(D43*ROUND(E43,2),2))
B44: zaštitni uređaj diferencijalne struje greške (ZUDS), 25A, 30 mA, 2-p (kom 1) | F44: =IF(E44="","",ROUND(D44*ROUND(E44,2),2))
B45: kombinirana zaštitna sklopka KZS C10/0,03A, 2p | F45: =IF(E45="","",ROUND(D45*ROUND(E45,2),2))
B46: automatski instalacijski osigurač 80 A/kar. C, 3-p, prekidne moći 10kA (kom 1) | F46: =IF(E46="","",ROUND(D46*ROUND(E46,2),2))
B47: automatski instalacijski osigurač 40 A/kar. C, 3-p, prekidne moći 10kA (kom 2) | F47: =IF(E47="","",ROUND(D47*ROUND(E47,2),2))
B48: automatski instalacijski osigurač 25 A/kar. C, 1-p, prekidne moći 10kA (kom 1) | F48: =IF(E48="","",ROUND(D48*ROUND(E48,2),2))
B49: automatski instalacijski osigurač 16 A/kar. C, 1-p, prekidne moći 10kA (kom 11) | F49: =IF(E49="","",ROUND(D49*ROUND(E49,2),2))
B50: automatski instalacijski osigurač 10 A/kar. C, 1-p, prekidne moći 10kA (kom 9) | F50: =IF(E50="","",ROUND(D50*ROUND(E50,2),2))
... B52: automatski instalacijski DC osigurač 4 A/kar. C, 2-p, prekidne moći 10kA (kom 1) | F52: =IF(E52="","",ROUND(D52*ROUND(E52,2),2))
B53: instalacijski sklopnik 1NC, 16A, 230V (kom 1)
...

Sheet d. strojarski
B1: STROJARSKI RADOVI
A4: =A183 -> 1.0 | B4: =B183 -> SUSTAV GRIJANJA, HLAĐENJA I PRIPREME PTV UKUPNO: | F4: =F183 -> 0
A5: =A267 -> 2.0 | B5: =B267 -> SUSTAV VENTILACIJE UKUPNO: | F5: =F267 -> 0
B8: STROJARSKI RADOVI UKUPNO | F8: =SUM(F4:F7) -> 0
B10: PDV 25% | F10: =ROUND(F8*0.25,2) -> 0
B12: SVEUKUPNO EUR: | F12: =SUM(F8:F11) -> 0
B16: TROŠKOVNIK STROJARSKIH RADOVA
A18: R.br. | B18: Opis stavke | C18: JM | D18: količina | E18: JC (EUR) | F18: UC (EUR)
A20: 1.0 | B20: SUSTAV GRIJANJA, HLAĐENJA I PRIPREME PTV
B22: NAPOMENA: U svim dolje navedenim stavkama troškovnika obuhvaćena je dobava materijala, uključivo i sav nespecificirani pomoćni i osnovni materijal, vijci, tiple, radnu i zaštitnu skelu, spojnice i sl. za izradu trasa i svih pomoćnih konstrukcija prema usvojenim standardima i pravilima struke za termotehničke instalacije. Opremu je potrebno ugraditi do potpune funkcionalnosti i gotovosti, a uz istu je potrebno dostaviti važeću izjavu o sukladnosti/svojstvima, tehničke upute te garancijske listove.
A24: 1 | B24: Dobava i ugradnja split dizalica topline zrak/voda, koja kontinuirano prilagođava izlaznu snagu stvarnim potrebama objekta, čime osigurava optimalne performanse rada. Dizalica topline se koristi za grijanje i hlađenje prostora te pripremu PTV-a. Omogućuje postavljanje temperature polaza vode u krugovima grijanja prema krivulji i vanjskoj temperaturi.
B25: Uređaj ima integrirane: električnu cirkulacijsku pumpu s kontinuiranim podešavanjem protoka, temperaturne senzore, senzor protoka, senzore tlaka za rashladni sustav. Unutarnja jedinica ima ugrađen pomoćni električni grijač.
B26: U cijenu uključiti probni rad instalacije (topla proba), dizalice topline od strane ovlaštenih servisera na području RH, te puštanje u redovan pogon do potpune funkcionalnosti postrojenja, uključivo mjerenje projektiranih parametara
B27: Qgr=16.8kW (A7/W35) ±15% Qgr=16.1kW (A7/W55) ±15% Qgr=14.3kW (A0/W35) ±15% Qgr=12.8kW (A0/W55) ±15% Qgr=10.7kW (A-15/W35) ±10% Qgr=6.82kW (A-15/W55) ±10%
B28: Qhl=14kW (A35/W7) ±10%
B29: SCOP (pros. klim. uvjeti): min. 4.5 (W35), min. 3.2 (W55) SEER: min. 4.5 (W7), min. 6.0 (W18)
B30: integrirani el. grijač: maks. 9kW
B31: priključna snaga - dizalica topline - vanjska jedinica: maks. 6.7kW (400V/3f/50Hz)
B32: priključna snaga - dizalica topline - unutarnja jedinica: maks. 9.5kW (400V/3f/50Hz)
B33: Razina zvučne snage - unutarnja jedinica: maks. 48dB(A)
B34: Razina zvučne snage - vanjska jedinica: maks. 72dB(A)
C35: kpl | D35: 2 | F35: =IF(E35="","",ROUND(D35*ROUND(E35,2),2))
F36: =IF(E36="","",ROUND(D36*ROUND(E36,2),2))
A37: =A24+1 -> 2 | B37: Dobava/izrada postolja za ugradnju dizalice topline na ravnom krovu. U cijenu uključiti antivibracijske nogice/podloške te sav spojni i montažni pribor do potpune gotovosti. | C37: kpl | D37: 2 | F37: =IF(E37="","",ROUND(D37*ROUND(E37,2),2))
F38: =IF(E38="","",ROUND(D38*ROUND(E38,2),2))
A39: =A37+1 -> 3 | B39: Dobava i ugradnja automatike za dizalicu topline, koja može upravljati minimalno slijedećim funkcijama: | F39: =IF(E39="","",ROUND(D39*ROUND(E39,2),2))
B40: - dvije dizalice topline u kaskadi | F40: =IF(E40="","",ROUND(D40*ROUND(E40,2),2))
B41: - akumulacijski spremnik | F41: =IF(E41="","",ROUND(D41*ROUND(E41,2),2))
B42: - direktan krug grijanja/hlađenja | F42: =IF(E42="","",ROUND(D42*ROUND(E42,2),2))
B43: - miješajući krug grijanja | F43: =IF(E43="","",ROUND(D43*ROUND(E43,2),2))
B44: -vođenje krugova grijanja prema vanjskoj temperaturi | F44: =IF(E44="","",ROUND(D44*ROUND(E44,2),2))
C45: kpl | D45: 1 | F45: =IF(E45="","",ROUND(D45*ROUND(E45,2),2))
F46: =IF(E46="","",ROUND(D46*ROUND(E46,2),2))
A47: =A39+1 -> 4 | B47: Dobava i ugradnja izoliranog akumulacijskog spremnika tople i hladne vode, zajedno sa spojnim i montažnim materijalom. | F47: =IF(E47="","",ROUND(D47*ROUND(E47,2),2))
B48: volumen: 200 litara ±15% | F48: =IF(E48="","",ROUND(D48*ROUND(E48,2),2))
B49: razred energetske učinkovitosti: min. C | F49: =IF(E49="","",ROUND(D49*ROUND(E49,2),2))
B50: priključci: 4x min. 6/4'' | F50: =IF(E50="","",ROUND(D50*ROUND(E50,2),2))
C51: kom | D51: 1 | F51: =IF(E51="","",ROUND(D51*ROUND(E51,2),2))
F52: =IF(E52="","",ROUND(D52*ROUND(E52,2),2))
A53: =A47+1 -> 5 | B53: Dobava i ugradnja na zid dizalice topline zrak/voda za pripremu PTV-a, zajedno sa spojnim i montažnim priborom. U cijenu uključiti puštanje u rad. NAPOMENA: Ugradnja spiro cijevi obuhvaćena troškovnikom ventilacije. | F53: =IF(E53="","",ROUND(D53*ROUND(E53,2),2))
...

Sheet e.vanjsko uređenje
B1: VANJSKO UREĐENJE
A3: =A36 -> 1. | B3: =B36 -> VANJSKI VODOVOD
A5: =A69 -> 1.1 | B5: =B69 -> GRAĐEVINSKI RADOVI UKUPNO: | F5: =F69 -> 0
A6: =A124 -> 1.2 | B6: =B124 -> GRAĐEVINSKI RADOVI UKUPNO: | F6: =F124 -> 0
A8: =A126 -> 2. | B8: =B126 -> VANJSKA KANALIZACIJA
A10: =A153 -> 2.1 | B10: =B153 -> RAZGRAĐIVANJE UKUPNO: | F10: =F153 -> 0
A11: =A176 -> 2.2 | B11: =B176 -> ZEMLJANI RADOVI UKUPNO: | F11: =F176 -> 0
A12: =A196 -> 2.3 | B12: =B196 -> BETONSKI RADOVI UKUPNO: | F12: =F196 -> 0
A13: =A232 -> 2.4 | B13: =B232 -> KANALIZACIJSKI RADOVI UKUPNO: | F13: =F232 -> 0
A15: =A234 -> 3. | B15: UREĐENJE PROMETNIH POVRŠINA
A17: =A253 -> 1 | B17: =B253 -> PRIPREMNI RADOVI UKUPNO: | F17: =F253 -> 0
A18: =A276 -> 2 | B18: =B276 -> ZEMLJANI RADOVI UKUPNO: | F18: =F276 -> 0
A19: =A299 -> 3 | B19: =B299 -> KOLNIČKA KONSTRUKCIJA UKUPNO: | F19: =F299 -> 0
A20: =A311 -> 4 | B20: =B311 -> ODVODNJA UKUPNO: | F20: =F311 -> 0
A21: =A327 -> 5 | B21: =B327 -> OSTALI RADOVI UKUPNO: | F21: =F327 -> 0
B24: VANJSKO UREĐENJE UKUPNO | F24: =SUM(F5:F23) -> 0
B26: PDV 25% | F26: =ROUND(F24*0.25,2) -> 0
B28: SVEUKUPNO EUR: | F28: =SUM(F24:F27) -> 0
B32: TROŠKOVNIK VANJSKOG UREĐENJA
A34: R.br. | B34: Opis stavke | C34: JM | D34: količina | E34: JC (EUR) | F34: UC (EUR)
A36: 1. | B36: VANJSKI VODOVOD
A38: 1.1 | B38: GRAĐEVINSKI RADOVI
A40: 1.1.1. | B40: Strojni i ručni iskop rova u tlu C ktg. za polaganje cijevi vanjskog vodovoda građevine, na dubini do 1,50 m od budućeg uređenog terena. Iskopani materijal odbacivati na udaljenost preko 1,0 m od bočne ivice rova, da se spriječi urušavanje iskopanog materijala u rov. Višak materijala deponirati na gradilišnoj deponiji sa razvrstavanjem materijala za ugradnju nakon postavljanja vodovodnih cijevi. U cijeni stavke crpljenje podzemne vode za potrebe izvedbe radova i razupiranje rova. U cijenu iskopa uračunati planiranje dna rova.
A41: 1.1.1.1. | B41: strojni iskop | C41: m3 | D41: 9 | F41: =IF(D41="","",ROUND(D41*ROUND(E41,2),2)) -> 0
A42: 1.1.1.2. | B42: ručni iskop | C42: m3 | D42: 1.4 | F42: =IF(D42="","",ROUND(D42*ROUND(E42,2),2)) -> 0
A44: 1.1.2. | B44: Dobava pijeska granulacije 0-4 mm, ubacivanje u rov te izrada pješčane posteljice ispod vodovodnih cijevi u sloju debljine d=10 cm.
C45: m3 | D45: 0.8 | F45: =IF(D45="","",ROUND(D45*ROUND(E45,2),2)) -> 0
A47: 1.1.3. | B47: Dobava pijeska granulacije 0-4 mm, ubacivanje u rov, te zatrpavanje cijevi do visine 30 cm iznad tjemena cijevi.
C48: m3 | D48: 3.2 | F48: =IF(D48="","",ROUND(D48*ROUND(E48,2),2)) -> 0
A50: 1.1.4. | B50: Zatrpavanje rova materijalom od iskopa, u slojevima od 30,0 cm, uz istovremeno obilno močenje i nabijanje svakog sloja nasutog materijala ručnim odnosno strojnim nabijačima, Ms=40 MN/m2.
C51: m3 | D51: 4.4 | F51: =IF(D51="","",ROUND(D51*ROUND(E51,2),2)) -> 0
A53: 1.1.5. | B53: Zatrpavanje rova šljunčanim materijalom granulacije 0-63 mm, u slojevima od 30,0 cm, uz istovremeno obilno močenje i nabijanje svakog sloja nasutog materijala ručnim odnosno strojnim nabijačima, Ms=80 MN/m2.
C54: m3 | D54: 2 | F54: =IF(D54="","",ROUND(D54*ROUND(E54,2),2)) -> 0
A56: 1.1.6. | B56: Odvoz materijala preostalog od iskopa na gradsku deponiju udaljenu 10 km. U cijeni utovar materijala na kamion, istovar i planiranje na deponiji.
C57: m3 | D57: 4 | F57: =IF(D57="","",ROUND(D57*ROUND(E57,2),2)) -> 0
A59: 1.1.7. | B59: Sidrenje cjevovoda na mjestima lomova cjevovoda, EV zasuna i na mjestu križanja različitih cjevovoda betonom C 16/20.
A60: 1.1.7.1. | B60: beton C16/20 | C60: m3 | D60: 0.9 | F60: =IF(D60="","",ROUND(D60*ROUND(E60,2),2)) -> 0
A61: 1.1.7.2. | B61: oplata | C61: m2 | D61: 3 | F61: =IF(D61="","",ROUND(D61*ROUND(E61,2),2)) -> 0
A63: 1.1.8. | B63: Izrada suhozida opekom normalnog formata za ugradnju ugradnih garnitura. Obračun po komadu opeke.
C64: kom | D64: 160 | F64: =IF(D64="","",ROUND(D64*ROUND(E64,2),2)) -> 0
...

Sheet f.dizalo
B1: DIZALO
B4: =B29 -> DIZALO UKUPNO: | F4: =F29 -> 0
B6: PDV 25% | F6: =ROUND((F4*0.25),2) -> 0
B8: SVEUKUPNO EUR: | F8: =SUM(F4:F7) -> 0
B12: TROŠKOVNIK - DIZALO
A14: R.br. | B14: Opis stavke | C14: JM | D14: količina | E14: JC (EUR) | F14: UC (EUR)
B16: OPĆI UVJETI UZ TROŠKOVNIK Cijenom je potrebno obuhvatiti slijedeće: - sav rad i materijal potreban da se stavka izvede - sav transport ljudi - sve skele i pomoćne konstrukcije potrebne da se stavka izvede - prije izrade sve mjere kontrolirati u naravi
B18: DIZALO
A20: 1 | B20: Dobava i ugradnja dizala prema tehničkom opisu. Dizalo je namijenjeno za prijevoz osoba i tereta, prilagođeno za prijevoz osoba s invaliditetom i smanjene pokretljivosti. Vozno okno izvedeno je iz armirano-betonske konstrukcije, unutrašnjih tlocrtnih dimenzija min. 1700 mm x 1800 mm. | F20: =IF(E20="","",ROUND(D20*ROUND(E20,2),2))
B21: Nosivost dizala je min. 630 kg (8 osoba), brzina vožnje min. 0,8 m/s - max. 1,00 m/s. Visina dizanja 3550 mm, dubina jame 1300 mm, nadvišenje 4440 mm.
B22: Dizalo ima 2 postaje, oba ulaza s iste strane. Pogon je električni bezreduktorski, frekvencijski reguliran, smješten u vrhu okna. Snaga elektromotora max. 6 kW, ovjes 2:1.
B23: Upravljanje: mikroprocesorsko, pozivno. Grupa upravljanja smještena je u gornjoj stanici. U slučaju nestanka stalnog napajanja električnom energijom dizalo je opremljeno uređajem za vožnju u stanicu.
B24: Kabina je dimenzija min. 1100 x 1400 mm, visine 2200 mm. Stranice kabine izvedene su iz nehrđajućeg čeličnog lima. Kabina je opremljena rukohvatom, ogledalom, protukliznom oblogom, LED rasvjetom, svjetlosnom zavjesom, upravljačkom kutijom, ventilatorom, dvosmjernim uređajem za komunikaciju koji omogućava stalni kontakt sa spasilačkom službom.
B25: Vrata kabine i vrata voznog okna su automatska teleskopska, posmična s dva krila, dim. svijetlog otvora 900 x 2000 mm. Vrata su izvedena iz nehrđajućeg čeličnog lima, u razredu vatrootpornosti EI 60.
B26: U stavci je uključeno i izdavanje završnog certifikata.
C27: kom | D27: 1 | F27: =IF(E27="","",ROUND(D27*ROUND(E27,2),2))
B29: =B18&" UKUPNO:" -> DIZALO UKUPNO: | F29: =SUM(F19:F28) -> 0

Sheet opći uvjeti
A2: OPĆI UVJETI
A4: Sve stavke ovog troškovnika podrazumijevaju izvođenje svih detalja sa svim konstruktivnim dijelovima, besprijekorno prema nacrtima, tehničkom opisu i ovim općim uvjetima, sve do potpune gotovosti i funkcionalnosti.
A5: Svi radovi moraju se izvoditi prema važećim normama i propisima i uputama proizvođača materijala.
A6: Jedinične cijene stavke obuhvaćaju:
A7: -troškove organizacije gradilišta
A8: -sav osnovni i pomoćni rad, alat i pribor
A9: -osnovni i pomoćni materijal
A10: -unutarnji i i vanjski transport
A11: -uskladištenja
A12: -montaže i demontaže radne skele
A13: -sve mjere zaštite na radu
A14: -troškove organizacije gradilišta
... A369: Izvođač je dužan osigurati da radovi ne utječu negativno na okolni okoliš i biljni / životinjski svijet neposredno uz gradilište.
