Workbook
Name __shared_1_0_0: NA()
Name __shared_1_1_0: NA()
Name __shared_1_2_0: NA()
Name __shared_1_3_0: NA()
Name __shared_1_4_0: NA()
Name __shared_1_5_0: NA()
Name __shared_1_6_0: NA()
Name __shared_1_7_0: NA()
Name __shared_1_8_0: NA()
Name _Hlk44662079: Naslovnica!$B$9
Name kk_1: #REF!
Name kk1i: #REF!
Name kk1p: #REF!
Name kk1v: #REF!
Name kk2i: #REF!
Name kk2p: #REF!
Name kk2v: #REF!
Name kk3i: #REF!
Name kk3p: #REF!
Name kk3v: #REF!
Name kk4i: #REF!
Name kk4p: #REF!
Name kk4v: #REF!
Name kk5i: #REF!
Name kk5p: #REF!
Name kk5v: #REF!
Name kk6i: #REF!
Name kk6p: #REF!
Name kk6v: #REF!
Name krov: #REF!
Name krov_1: #REF!
Name krov_2: #REF!
Name rk_1: #REF!
Name rk1v: #REF!
Name rkh: #REF!
Name rkv: #REF!
Name SHARED_FORMULA_10_103_10_103_2: NA()
Name SHARED_FORMULA_10_39_10_39_2: NA()
Name SHARED_FORMULA_11_103_11_103_2: NA()
Name SHARED_FORMULA_11_39_11_39_2: NA()

Sheet Naslovnica
A4: Naziv projektantskog ureda: | B4: NORD-ING d.o.o.
B5: Putjane 15
B6: 40000 Čakovec
A9: Naručitelj: | B9: GRAD ČAKOVEC
B10: Ulica kralja Tomislava 15
B11: 40 000 Čakovec
B12: Međimurska županija
A14: Naziv građevine: | B14: REKONSTRUKCIJA (DOGRADNJA) OSNOVNE ŠKOLE IVANOVEC
A17: Vrsta projekta: | B17: TROŠKOVNIK RADOVA
A20: Lokacija | B20: k.č.br. 96/59; k.o. Ivanovec
B21: Ivanovec
B22: Međimurska županija
A24: Zajednička oznaka projekta: | B24: NI-151/2025
A27: Glavni projektant: | B27: Marina Mrla, mag.ing.arch.
A40: Mjesto i datum: | B40: Čakovec, 6.2025

Sheet rekapitualcija_dogradnja
B1: REKAPITUALCIJA SVIH RADOVA
A4: A. | B4: GRAĐEVINSKO-OBRTNIČKI RADOVI | C4: ='a. građevinsko obrtnički'!$F$30 -> 0
A6: B. | B6: VODOVOD I ODVODNJA | C6: ='b. vodovod i odvodnja'!F11 -> 0
A8: C. | B8: ELEKTROINSTALACIJE | C8: ='c. elektro radovi'!F12 -> 0
A10: D. | B10: STROJARSKI RADOVI | C10: ='d. strojarski'!F8 -> 0
A12: E. | B12: VANJSKO UREĐENJE | C12: ='e.vanjsko uređenje'!F24 -> 0
A14: F. | B14: DIZALO | C14: =f.dizalo!F4 -> 0
B17: UKUPNO bez PDV-a: | C17: =SUM(C4:C14) -> 0
B19: PDV 25% | C19: =ROUND(C17*0.25,2) -> 0
B21: SVEUKUPNO - s PDV-om: | C21: =C17+C19 -> 0

Sheet a. građevinsko obrtnički
B1: GRAĐEVINSKO-OBRTNIČKI RADOVI REKAPITULACIJA
A3: A.1 | B3: GRAĐEVINSKI RADOVI
A5: =A174 -> 1.0 | B5: =B174 -> PRIPRENI RADOVI, DEMONTAŽE I RUŠENJA UKUPNO: | F5: =F174 -> 0
A6: =A215 -> 2.0 | B6: =B215 -> ZEMLJANI RADOVI UKUPNO: | F6: =F215 -> 0
A7: =A366 -> 3.0 | B7: =B366 -> BETONSKI I ARMIRANOBETONSKI RADOVI UKUPNO: | F7: =F366 -> 0
A8: =A527 -> 4.0 | B8: =B527 -> ZIDARSKI RADOVI UKUPNO: | F8: =F527 -> 0
A9: =A548 -> 5.0 | B9: =B548 -> TESARSKI RADOVI UKUPNO: | F9: =F548 -> 0
A11: A.1. | B11: GRAĐEVINSKI RADOVI UKUPNO | F11: =SUM(F5:F10) -> 0
A14: A.2 | B14: OBRTNIČKI RADOVI
A16: =A782 -> 1.0 | B16: =B782 -> IZOLATERSKI RADOVI UKUPNO: | F16: =F782 -> 0
A17: =A834 -> 2.0 | B17: =B834 -> FASADERSKI RADOVI UKUPNO: | F17: =F834 -> 0
A18: =A941 -> 3.0 | B18: =B941 -> GIPSKARTONSKI RADOVI UKUPNO: | F18: =F941 -> 0
A19: =A1092 -> 4.0 | B19: =B1092 -> VANJSKA STOLARIJA UKUPNO: | F19: =F1092 -> 0
A20: =A1146 -> 5.0 | B20: =B1146 -> UNUTARNJA STOLARIJA UKUPNO: | F20: =F1146 -> 0
A21: =A1182 -> 6.0 | B21: =B1182 -> BRAVARSKI RADOVI UKUPNO: | F21: =F1182 -> 0
A22: =A1216 -> 7.0 | B22: =B1216 -> LIMARSKI RADOVI UKUPNO: | F22: =F1216 -> 0
A23: =A1251 -> 8.0 | B23: =B1251 -> KERAMIČARSKI RADOVI UKUPNO: | F23: =F1251 -> 0
A24: =A1265 -> 9.0 | B24: =B1265 -> PODOPOLAGAČKI RADOVI UKUPNO: | F24: =F1265 -> 0
A25: =A1301 -> 10.0 | B25: =B1301 -> SOBOSLIKARSKO-LIČILAČKI RADOVI UKUPNO: | F25: =F1301 -> 0
A26: =A1315 -> 11.0 | B26: =B1315 -> OSTALI RADOVI UKUPNO: | F26: =F1315 -> 0
A28: A.2. | B28: OBRTNIČKI RADOVI UKUPNO | F28: =SUM(F16:F26) -> 0
A30: A1 i A2 | B30: GRAĐEVINSKO-OBRTNIČKI RADOVI UKUPNO: | F30: =F28+F11 -> 0
B32: PDV 25% | F32: =ROUND(F30*0.25,2) -> 0
B34: SVEUKUPNO EUR: | F34: =SUM(F30:F33) -> 0
B36: TROŠKOVNIK GRAĐEVINSKO - OBRTNIČKIH RADOVA
A38: R.br. | B38: Opis stavke | C38: JM | D38: količina | E38: JC (EUR) | F38: UC (EUR)
B40: Opći uvjeti su sastavni dio troškovnika
A44: A. | B44: GRAĐEVINSKO - OBRTNIČKI RADOVI
A46: A1. | B46: GRAĐEVINSKI RADOVI
B48: NAPOMENA:
B49: Sva rušenja i razgradnje pojedinih dijelova građevine izvoditi pažljivo, isključivo ručno, sa što manje buke i prašine. Tokom rušenja potrebno je polijevati dijelove koji se ruše.
B50: Zabranjena je upotreba teških alata, kompresora ili sličnih uređaja koji mogu posredno prouzročiti štetu na konstruktivnim dijelovima građevine.
B51: Rušenja izvoditi tek kada su izvršena sva potrebna rasterećenja, podupiranja i osiguranja.
B52: Ako se prilikom rušenja i razgrađivanja naiđe na nepredviđene detalje ili se uoče opasnosti od zabušavanja ili ugrožavanja okolnih elemenata građevine, izvođač je dužan o tome odmah obavijestiti nadzornog inženjera.
B53: Prije početka rušenja i demontaža kvalificirana, stručna osoba mora odpojiti sve instalacije i osigurati gradilište.
B54: U jedinične cijene svake pojedine stavke uključiti radnu skelu te zaštitnu ogradu.
B55: Prije izrade ponude izvođač je dužan obići i pregledati građevinu zbog radova obuhvaćenih troškovnikom, uvjeta organizacije gradilišta, načina i mogućnosti pristupa građevini, mogućnosti zauzimanja javne površine, postave skele, osiguranja ulaza u građevinu i sl.
B56: Prema tome, ponuđena cijena je konačna cijena za realizaciju pojedine troškovničke stavke i ne može se mijenjati.
B57: Prije početka radova POTREBNO JE na terenu sagledati stanje u naravi te dogovoriti tijek izvođenja radova.
B58: Napomena: Prilikom demontaža i rušenja izvođač je dužan voditi računa da ne ošteti građevinske elemente koji nisu predmet zahvata. Osobito treba obratiti pažnju na instalacije koje se zadržavaju. Zaštita primjerenom metodom je uključena u cijenu svake pojedine stavke. Trošak svih nepredviđenih nastalih oštećenja snosi izvođač radova.
B59: Nakon iskopa zemljanog materijala, rušenja i demontaža, sve količine utvrditi će se na licu mjesta!
A62: 1.0 | B62: PRIPRENI RADOVI, DEMONTAŽE I RUŠENJA
B64: Iskolčenje građevine i izrada ovjerenog elaborata iskolčenja potrebnog za prijavu početka građenja nisu predmet ovog troškovnika i u obavezi su Investitora.
A66: 1 | B66: Geodetske usluge | F66: =IF(D66="","",ROUND(D66*ROUND(E66,2),2))
B67: Zaštita, očuvanje, kontrola geodetskih točaka iskolčenja definiranih u Elaboratu iskolčenja, tijekom cijelog razdoblja izvođenja radova sve do predaje svih radova investitoru.
B68: Maksimalne tlocrtne dimenzije 280 m2. | F68: =IF(D68="","",ROUND(D68*ROUND(E68,2),2))
B69: U cijeni je obavezno uključena geodetska snimka izvedenog stanja za objekt i izrada elaborata za potrebe upisa objekta u katastar. | C69: kpl | D69: 1 | F69: =IF(D69="","",ROUND(D69*ROUND(E69,2),2)) -> 0
A71: =A66+1 -> 2 | B71: Demontaža svih elemenata s pročelja i stropova na pozicijama rušenja: rasvjetna tjela, gromobrani, prekidači, vatrodojavni alarmi i slično.
B72: Cijena uključuje utovar u kamion, odvoz i zbrinjavanje razgrađenog materijala na reciklažnom dvorištu, zajedno sa svim pristojbama, udaljenom do 10 km. | C72: kpl | D72: 1 | F72: =IF(D72="","",ROUND(D72*ROUND(E72,2),2)) -> 0
A74: =A71+1 -> 3 | B74: Pažljiva demontaža, privremeno skladištenje i ponovna montaža postojećih vanjskih klima jedinica.
B75: Prije otpajanja klima jedinica potrebno je adekvatno zbrinuti plin koji se nalazi u klima uređaju i otpojiti uređaj s napajanja.
B76: Klima jedinice privremeno skladištiti u prostoru investitora.
B77: U stavku uključeno i ponovno punjenje klima jedinica pri ponovnoj montaži i ispitivanje sustava po montaži.
B78: U cijenu uključiti sav rad, materijal, nove nosače i sidrenja u nosive zidove, cijevi i dovod struje; sve do potpune gotovosti i funkcionalnosti.
B79: Obračun po komadu demontirane i ponovno montirane vanjske klima jedinice. | C79: kom | D79: 6 | F79: =IF(D79="","",ROUND(D79*ROUND(E79,2),2)) -> 0
A81: =A74+1 -> 4 | B81: Pažljiva demontaža, uklanjanje i zbrinjavanje radijatora iz spojnog hodnika.
B82: U stavku uključiti pražnjenje instalacija i uklanjanje dijela cjevovoda i blindiranje cjevovoda ugradnjom ventila na krajevima postojećeg sustava grijanja.
B83: Radijatore predati Investitoru na skladištenje a ostali otpadni materijal pravilno zbrinuti.
B84: Cijena uključuje utovar u kamion, odvoz i zbrinajvanje razgrađenog otpadnog materijala na odlagalištu udaljenom do 10 km, zajedno sa svim pristojbama.
C85: kom | D85: 3 | F85: =IF(D85="","",ROUND(D85*ROUND(E85,2),2)) -> 0
A87: =A81+1 -> 5 | B87: Uklanjanje spojnog hodnika škole i dvorane uključujući sve slojeve stropne konstrukcije i poda, nosivu konstrukciju, temeljnu konstrukciju. | F87: =IF(D87="","",ROUND(D87*ROUND(E87,2),2))
B88: Pažljiva demontaža, uklanjanje i razgrađivanje postojećeg hodnika tlocrtne površine 45 m2 i visine 3,50 m. | F88: =IF(D88="","",ROUND(D88*ROUND(E88,2),2))
B89: Nosiva konstrukcija izvedena je kao čelična, sustav stupova i greda s ispunom od panela i stolarije. Krov je dvostrešan, pokrov lim. Podna ploča i temelji izvedeni su od betona sa završnim slojem od keramičkih pločica. Pretpostavljena širina temelja 30 cm i dubina 150 cm, pretpostavljena debljina podne ploče 10 cm. | F89: =IF(D89="","",ROUND(D89*ROUND(E89,2),2))
B90: U cijenu uključiti demontažu konstrukcije, rušenje i uklanjanje betonskih elemenata, sve zajedno sa svim zatečenim slojevima.
B91: Cijena uključuje utovar u kamion, odvoz i zbrinjavanje razgrađenog materijala na reciklažnom dvorištu, zajedno sa svim pristojbama, udaljenosti do 10 km.
B92: Obračun prema stvarno uklonjenim količinama.
A93: 1 | B93: uklanjanje čeličnih stupova dimenzija 100/100mm, dužine 350 cm | C93: kom | D93: 8 | F93: =IF(D93="","",ROUND(D93*ROUND(E93,2),2)) -> 0
A94: =A93+1 -> 2 | B94: uklanjanje čeličnih greda dimenzija 50/100mm. Ukupna dužina do 1600 cm | C94: kom | D94: 4 | F94: =IF(D94="","",ROUND(D94*ROUND(E94,2),2)) -> 0
A95: =A94+1 -> 3 | B95: uklanjanje nosive AB konstrukcije; AB podna ploča, temeljna konstrukcija | C95: m3 | D95: 25 | F95: =IF(D95="","",ROUND(D95*ROUND(E95,2),2)) -> 0
A96: =A95+1 -> 4 | B96: uklanjanje spuštenog stropa | C96: m2 | D96: 50 | F96: =IF(D96="","",ROUND(D96*ROUND(E96,2),2)) -> 0
A97: =A96+1 -> 5 | B97: uklanjanje podne obloge, keramika | C97: m2 | D97: 50 | F97: =IF(D97="","",ROUND(D97*ROUND(E97,2),2)) -> 0
A98: =A97+1 -> 6 | B98: uklanjanje limenog pokrova zajedno s podkonstrukcijom, tlocrtno | C98: m2 | D98: 50 | F98: =IF(D98="","",ROUND(D98*ROUND(E98,2),2)) -> 0
A99: =A98+1 -> 7 | B99: uklanjanje oluka | C99: m1 | D99: 35 | F99: =IF(D99="","",ROUND(D99*ROUND(E99,2),2)) -> 0
A100: =A99+1 -> 8 | B100: uklanjanje oborinskih vertikala | C100: m1 | D100: 8 | F100: =IF(D100="","",ROUND(D100*ROUND(E100,2),2)) -> 0
A101: =A100+1 -> 9 | B101: uklanjanje stolarije, dimenzija 570/190cm | C101: kom | D101: 6 | F101: =IF(D101="","",ROUND(D101*ROUND(E101,2),2)) -> 0
A102: =A101+1 -> 10 | B102: uklanjanje panelne ispune, zid | C102: m2 | D102: 56 | F102: =IF(D102="","",ROUND(D102*ROUND(E102,2),2)) -> 0
A104: =A87+1 -> 6 | B104: Demontaža dijela krovnog pokrova škole prizemlja na strani dogradnje, glineni crijep, komplet sve do nosive konstrukcije. Nagib krova od 14° i 24°. | F104: =IF(D104="","",ROUND(D104*ROUND(E104,2),2))
B105: Cijena uključuje utovar u kamion, odvoz i zbrinjavanje razgrađenog materijala na reciklažnom dvorištu, zajedno sa svim pristojbama, udaljenom do 10 km, radnu skelu i zaštitnu ogradu. | F105: =IF(D105="","",ROUND(D105*ROUND(E105,2),2))
B106: Obračun po m2 tlocrtne projekcije stvarno izvedenih radova. | C106: m2 | D106: 156 | F106: =IF(D106="","",ROUND(D106*ROUND(E106,2),2)) -> 0
A108: =A104+1 -> 7 | B108: Demontaža dijela nosive konstrukcije krovišta prizemlja, drvena građa
B109: Cijena uključuje utovar u kamion, odvoz i zbrinjavanje razgrađenog materijala na reciklažnom dvorištu, zajedno sa svim pristojbama, udaljenom do 10 km, radnu skelu i zaštitnu ogradu.
B110: Obračun po m2 tlocrtne projekcije. | C110: m2 | D110: 156 | F110: =IF(D110="","",ROUND(D110*ROUND(E110,2),2)) -> 0
A112: =A108+1 -> 8 | B112: Pažljiva demontaža krovnih vertikala škole, na mjestu dogradnje, s nosačima i svim ostalim pričvrsnim materijalom. | F112: =IF(D112="","",ROUND(D112*ROUND(E112,2),2))
B113: Uklanjanje vršiti pažljivo i postepeno uz poduzimanje svih mjera zaštite na radu. | F113: =IF(D113="","",ROUND(D113*ROUND(E113,2),2))
B114: Cijena uključuje utovar u kamion, odvoz i zbrinjavanje razgrađenog materijala na reciklažnom dvorištu, zajedno sa svim pristojbama, udaljenom do 10 km, radnu skelu i zaštitnu ogradu. | F114: =IF(D114="","",ROUND(D114*ROUND(E114,2),2))
B115: Obračun prema stvarno uklonjenim količinama.
C116: m1 | D116: 23 | F116: =IF(D116="","",ROUND(D116*ROUND(E116,2),2)) -> 0
F117: =IF(D117="","",ROUND(D117*ROUND(E117,2),2))
A118: =A112+1 -> 9 | B118: Pažljiva demontaža horizontalnog žlijeba škole, na mjestu dogradnje, s nosačima i svim ostalim pričvrsnim materijalom. | F118: =IF(D118="","",ROUND(D118*ROUND(E118,2),2))
B119: Uklanjanje vršiti pažljivo i postepeno uz poduzimanje svih mjera zaštite na radu. | F119: =IF(D119="","",ROUND(D119*ROUND(E119,2),2))
B120: Cijena uključuje utovar u kamion, odvoz i zbrinjavanje razgrađenog materijala na reciklažnom dvorištu, zajedno sa svim pristojbama, udaljenom do 10 km, radnu skelu i zaštitnu ogradu. | F120: =IF(D120="","",ROUND(D120*ROUND(E120,2),2))
B121: Obračun prema stvarno uklonjenim količinama.
C122: m1 | D122: 56 | F122: =IF(D122="","",ROUND(D122*ROUND(E122,2),2)) -> 0
A124: =A118+1 -> 10 | B124: Rekonstrukcija postojećeg krovišta kata
B125: Raskrivanje dijela krovišta u širini 1,20 m na mjestu dogradnje, uklanjanje svih slojeva podkonstrukcije i skračivanje postojećih rogova.
B126: Djelomično pokrivanje krovišta nakon postave dodatne hidroizolacije i ležećeg žlijeba (obračunato u drugim stavkama), prethodno uklonjenim pokrovom.
B127: Cijena uključuje utovar u kamion, odvoz i zbrinjavanje suvišnog razgrađenog materijala na reciklažnom dvorištu, zajedno sa svim pristojbama, udaljenom do 10 km, radnu skelu i zaštitnu ogradu. | F127: =IF(D127="","",ROUND(D127*ROUND(E127,2),2))
B128: Obračun po m2 tlocrtne projekcije stvarno izvedenih radova.
C129: m2 | D129: 27 | F129: =IF(D129="","",ROUND(D129*ROUND(E129,2),2)) -> 0
A131: =A124+1 -> 11 | B131: Pažljiva demontaža limenog opšava, s nosačima i svim ostalim pričvrsnim materijalom. | F131: =IF(D131="","",ROUND(D131*ROUND(E131,2),2))
...

Sheet b. vodovod i odvodnja
B1: VODOVOD I ODVODNJA REKAPITULACIJA
B4: =B24 -> INSTALACIJE VODOVODA I KANALIZACIJE UNUTAR GRAĐEVINE
A5: =A89 -> 1. | B5: =B89 -> GRAĐEVINSKI RADOVI UKUPNO: | F5: =F89 -> 0
A6: =A169 -> 2. | B6: =B169 -> VODOVOD UKUPNO: | F6: =F169 -> 0
A7: =A271 -> 3. | B7: =B271 -> KANALIZACIJA UKUPNO: | F7: =F271 -> 0
A8: =A301 -> 4. | B8: =B301 -> SANITARIJE UKUPNO: | F8: =F301 -> 0
B11: VODOVOD I ODVODNJA UKUPNO | F11: =SUM(F3:F9) -> 0
B13: PDV 25% | F13: =ROUND(F11*0.25,2) -> 0
B15: SVEUKUPNO EUR: | F15: =SUM(F11:F14) -> 0
B19: TROŠKOVNIK VODOVODA I ODVODNJE
A21: R.br. | B21: Opis stavke | C21: JM | D21: količina | E21: JC (EUR) | F21: UC (EUR)
B24: INSTALACIJE VODOVODA I KANALIZACIJE UNUTAR GRAĐEVINE
A26: 1 | B26: GRAĐEVINSKI RADOVI
A28: 1 | B28: Ručni i djelomično strojni iskop rova za polaganje vodovodnih i kanalizacijskih cijevi na dubinu do 1,0 m. Iskopani materijal odbacivati na udaljenost do 1,0 m od bočne ivice rova, da se spriječi urušavanje iskopanog materijala u rov. U cijeni iskopa i potrebno crpljenje podzemne vode. Iskop od objekta do prvog revizijskog okna. U cijenu iskopa uračunati planiranje dna rova.
A29: 1.1.1. | B29: strojni iskop | C29: m3 | D29: 80.65 | F29: =IF(D29="","",ROUND(D29*ROUND(E29,2),2)) -> 0
A30: 1.1.2. | B30: ručni iskop | C30: m3 | D30: 20.15 | F30: =IF(D30="","",ROUND(D30*ROUND(E30,2),2)) -> 0
A32: 2 | B32: Dobava pijeska granulacije 0-8 mm, ubacivanje u rov, te izrada pješčane posteljice na dnu rova, u sloju od 10 cm.
C33: m3 | D33: 12.6 | F33: =IF(D33="","",ROUND(D33*ROUND(E33,2),2)) -> 0
A35: =A32+1 -> 3 | B35: Dobava pijeska granulacije 0-8 mm, ubacivanje u rov te zatrpavanje istim do visine 15 cm iznad tjemena cijevi.
C36: m3 | D36: 50.4 | F36: =IF(D36="","",ROUND(D36*ROUND(E36,2),2)) -> 0
A38: =A35+1 -> 4 | B38: Zatrpavanje rova materijalom od iskopa, u slojevima od 30,0 cm, uz istovremeno obilno močenje i nabijanje svakog sloja nasutog materijala ručnim odnosno strojnim nabijačima, zbijenost Ms=40 MN/m2.
C39: m3 | D39: 16.45 | F39: =IF(D39="","",ROUND(D39*ROUND(E39,2),2)) -> 0
A41: =A38+1 -> 5 | B41: Zatrpavanje rova šljunčanim materijalom granulacije 0-63 mm , u slojevima od 30,0 cm, uz istovremeno obilno močenje i nabijanje svakog sloja nasutog materijala ručnim odnosno strojnim nabijačima, zbijenost Ms=80 MN/m2.
C42: m3 | D42: 21.3 | F42: =IF(D42="","",ROUND(D42*ROUND(E42,2),2)) -> 0
A44: =A41+1 -> 6 | B44: Odvoz materijala preostalog od iskopa na gradsku deponiju udaljenu 15 km. U cijeni utovar materijala na kamion, istovar i planiranje na deponiji.
C45: m3 | D45: 84.4 | F45: =IF(D45="","",ROUND(D45*ROUND(E45,2),2)) -> 0
A47: =A44+1 -> 7 | B47: Izvedba šliceva u zidu od opeke i u dijelovima AB zida, za polaganje vodovodnih i kanalizacijskih cijevi.
A48: 1 | B48: šlic vel. 10x8 cm | C48: m1 | D48: 15 | F48: =IF(D48="","",ROUND(D48*ROUND(E48,2),2)) -> 0
A49: 2 | B49: šlic vel. 10x10 cm | C49: m1 | D49: 5 | F49: =IF(D49="","",ROUND(D49*ROUND(E49,2),2)) -> 0
A50: 3 | B50: šlic vel. 15x10 cm | C50: m1 | D50: 10 | F50: =IF(D50="","",ROUND(D50*ROUND(E50,2),2)) -> 0
A51: 4 | B51: šlic vel. 15x15 cm | C51: m1 | D51: 20 | F51: =IF(D51="","",ROUND(D51*ROUND(E51,2),2)) -> 0
A52: 5 | B52: šlic vel. 20x20 cm | C52: m1 | D52: 5 | F52: =IF(D52="","",ROUND(D52*ROUND(E52,2),2)) -> 0
A54: =A47+1 -> 8 | B54: Zidarsko zatvaranje šliceva nakon ugradnje cijevi.
A55: 1 | B55: zidarsko zatvaranje šliceva vel. 10x8 cm | C55: m1 | D55: 15 | F55: =IF(D55="","",ROUND(D55*ROUND(E55,2),2)) -> 0
A56: 2 | B56: zidarsko zatvaranje šliceva vel. 10x10 cm | C56: m1 | D56: 5 | F56: =IF(D56="","",ROUND(D56*ROUND(E56,2),2)) -> 0
A57: 3 | B57: zidarsko zatvaranje šliceva vel. 15x10 cm | C57: m1 | D57: 10 | F57: =IF(D57="","",ROUND(D57*ROUND(E57,2),2)) -> 0
A58: 4 | B58: zidarsko zatvaranje šliceva vel. 15x15 cm | C58: m1 | D58: 20 | F58: =IF(D58="","",ROUND(D58*ROUND(E58,2),2)) -> 0
A59: 5 | B59: zidarsko zatvaranje šliceva vel. 20x20 cm | C59: m1 | D59: 5 | F59: =IF(D59="","",ROUND(D59*ROUND(E59,2),2)) -> 0
A61: =A54+1 -> 9 | B61: Izvedba prodora kroz temeljne zidove građevine, zidove i stropove građevine za polaganje vodovodnih i kanalizacijskih cijevi. U oplatu armiranobetonskih elemenata postavljaju se drvene kutije.
A62: 1 | B62: prodor veličine od 0,0 do 0,04 m2 | C62: kom | D62: 2 | F62: =IF(D62="","",ROUND(D62*ROUND(E62,2),2)) -> 0
A63: 2 | B63: prodor veličine od 0,04 do 0,09 m2 | C63: kom | D63: 11 | F63: =IF(D63="","",ROUND(D63*ROUND(E63,2),2)) -> 0
A64: 3 | B64: prodor veličine od 0,09 do 0,16 m2 | C64: kom | D64: 4 | F64: =IF(D64="","",ROUND(D64*ROUND(E64,2),2)) -> 0
A66: =A61+1 -> 10 | B66: Zidarsko zatvaranje prodora nakon ugradnje cijevi.
A67: 1 | B67: prodor veličine od 0,0 do 0,04 m2 | C67: kom | D67: 2 | F67: =IF(D67="","",ROUND(D67*ROUND(E67,2),2)) -> 0
A68: 2 | B68: prodor veličine od 0,04 do 0,09 m2 | C68: kom | D68: 11 | F68: =IF(D68="","",ROUND(D68*ROUND(E68,2),2)) -> 0
A69: 3 | B69: prodor veličine od 0,09 do 0,16 m2 | C69: kom | D69: 4 | F69: =IF(D69="","",ROUND(D69*ROUND(E69,2),2)) -> 0
A71: =A66+1 -> 11 | B71: Bušenje dijamantnom krunom, horizintalnih i vertikalnih rupa različitih duljina konstrukcije od 10 do 30 cm kroz zid/strop od armiranog betona za prolaz cijevi promjera od 32 do 125mm. U cijeni čišćenje nakon izvođenja radova s odvozom šute na gradsku deponiju, sve komplet.
A72: 1 | B72: Ø 80 mm (cijevi 25 mm) | C72: kom | D72: 1 | F72: =IF(D72="","",ROUND(D72*ROUND(E72,2),2)) -> 0
A73: 2 | B73: Ø 80 mm (cijevi 40 mm) | C73: kom | D73: 1 | F73: =IF(D73="","",ROUND(D73*ROUND(E73,2),2)) -> 0
A74: 3 | B74: Ø 80 mm (cijevi 50 mm) | C74: kom | D74: 4 | F74: =IF(D74="","",ROUND(D74*ROUND(E74,2),2)) -> 0
A75: 4 | B75: Ø 125 mm (cijevi 80 mm) | C75: kom | D75: 2 | F75: =IF(D75="","",ROUND(D75*ROUND(E75,2),2)) -> 0
A76: 5 | B76: Ø 125 mm (cijevi 110 mm) | C76: kom | D76: 2 | F76: =IF(D76="","",ROUND(D76*ROUND(E76,2),2)) -> 0
A77: 6 | B77: Ø 200 mm (cijevi 160 mm) | C77: kom | D77: 5 | F77: =IF(D77="","",ROUND(D77*ROUND(E77,2),2)) -> 0
F78: =IF(D78="","",ROUND(D78*ROUND(E78,2),2))
A79: =A71+1 -> 12 | B79: Zidarska obrada horizintalnih i vertikalnih rupa različitih duljina konstrukcije od 10 do 30 cm kroz zid/strop od armiranog betona oko prolaza cijevi promjera od 32 do 160 mm. U cijeni čišćenje nakon izvođenja radova s odvozom šute na gradsku deponiju, sve komplet. | F79: =IF(D79="","",ROUND(D79*ROUND(E79,2),2))
A80: 1 | B80: Ø 50 mm (cijevi 25 mm) | C80: kom | D80: 1 | F80: =IF(D80="","",ROUND(D80*ROUND(E80,2),2)) -> 0
A81: 2 | B81: Ø 80 mm (cijevi 40 mm) | C81: kom | D81: 1 | F81: =IF(D81="","",ROUND(D81*ROUND(E81,2),2)) -> 0
A82: 3 | B82: Ø 80 mm (cijevi 50 mm) | C82: kom | D82: 4 | F82: =IF(D82="","",ROUND(D82*ROUND(E82,2),2)) -> 0
A83: 4 | B83: Ø 110 mm (cijevi 85 mm) | C83: kom | D83: 2 | F83: =IF(D83="","",ROUND(D83*ROUND(E83,2),2)) -> 0
A84: 5 | B84: Ø 125 mm (cijevi 110 mm) | C84: kom | D84: 2 | F84: =IF(D84="","",ROUND(D84*ROUND(E84,2),2)) -> 0
A85: 6 | B85: Ø 200 mm (cijevi 160 mm) | C85: kom | D85: 5 | F85: =IF(D85="","",ROUND(D85*ROUND(E85,2),2)) -> 0
A87: =A79+1 -> 13 | B87: Otvaranje zida štemanjem ili šlicanjem na mjestu izrade priključka na hladnu sanitarnu vodu u postojećem sanitarnom čvoru. Na mjestu spoja ugradnja ravnog propusnog ventila i inox vratašca prema posebnoj stavci. | C87: kom | D87: 1 | F87: =IF(D87="","",ROUND(D87*ROUND(E87,2),2)) -> 0
A89: 1. | B89: GRAĐEVINSKI RADOVI UKUPNO: | F89: =SUM(F27:F88) -> 0
A91: 2. | B91: VODOVOD
B92: Napomena: Jedinične cijeni vodovodnih radova moraju sadržati sva potrebna ispitivanja cjevovoda, tlačne probe, dezinfekciju cjevovoda, ispiranje cjevovoda i uzimanje uzorka vode za labaratorijsko ispitivanje od ovlaštenog laboratorija i prvo ispitivanje hidranske mreže od ovlašene tvrtke, a sve za potrebe provedbe tehničkog pregleda.
B94: a/ HIDRANTSKA MREŽA
A95: 2.1. | B95: Dobava i montaža čeličnih pocinčanih cijevi za vodovod komplet s pocinčanim fitinzima te spojnim i brtvenim materijalom. Cijevi montirati u šlicu zida građevine, zidnim usjecima i probojima te vidljivo ispod stropa građevine. Cijevi se pričvršćuju limenim obujmicama sa plutenim podmetačima na svakih 1 metar, a o strop vješaju odgovarajučim ovjesima i obujmicama sa gumenom brtvom. U cijeni sve komplet do potpune funkcionalnosti, cijevi, fitinzi (obujmice sa gumenim podloškom, matice, vijci i navojna šipka).
A96: 1 | B96: cijevi ø80 mm | C96: m1 | D96: 14 | F96: =IF(D96="","",ROUND(D96*ROUND(E96,2),2)) -> 0
A97: 2 | B97: cijevi ø65 mm | C97: m1 | D97: 4 | F97: =IF(D97="","",ROUND(D97*ROUND(E97,2),2)) -> 0
A98: 3 | B98: cijevi ø50 mm | C98: m1 | D98: 30 | F98: =IF(D98="","",ROUND(D98*ROUND(E98,2),2)) -> 0
F99: =IF(D99="","",ROUND(D99*ROUND(E99,2),2))
A100: 2.2. | B100: Izvedba zaštitne izolacije pocinčanog cjevovoda u podu, zidu građevine i ispod stropa građevine, bitumenskim premazom, bitumenskom ljepljivom trakom i teško gorivom toplinskom izolacijom debljine 25 mm za sprečavanja kondenzacije, reakcije na požar B1. | F100: =IF(D100="","",ROUND(D100*ROUND(E100,2),2))
A101: 1 | B101: za pocinčanu cijevi ø80 mm | C101: m1 | D101: 14 | F101: =IF(D101="","",ROUND(D101*ROUND(E101,2),2)) -> 0
A102: 2 | B102: za pocinčanu cijevi ø65 mm | C102: m1 | D102: 4 | F102: =IF(D102="","",ROUND(D102*ROUND(E102,2),2)) -> 0
A103: 3 | B103: za pocinčanu cijevi ø50 mm | C103: m1 | D103: 30 | F103: =IF(D103="","",ROUND(D103*ROUND(E103,2),2)) -> 0
F105: =IF(D105="","",ROUND(D105*ROUND(E105,2),2))
A106: 3 | B106: Dobava i montaža hidrantskog ormarića od nehrđajučeg čelika, s vratima s mliječnim staklom, veličina ormarića 500x500x140 mm sa oznakom za hidrant, komplet sa opremom, hidrantskim ventilom ø52 mm, crijevom ø52 dužine 15 metara i mlaznicom sa ventilom i zasunom ø52. | F106: =IF(D106="","",ROUND(D106*ROUND(E106,2),2))
C107: kom | D107: 4 | F107: =IF(D107="","",ROUND(D107*ROUND(E107,2),2)) -> 0
F108: =IF(D108="","",ROUND(D108*ROUND(E108,2),2))
A109: =A106+1 -> 4 | B109: Dobava i montaža vatrogasnih aparata za gašenje požara prahom, kapaciteta punjenja. | F109: =IF(D109="","",ROUND(D109*ROUND(E109,2),2))
B110: S6 (12 JG) | C110: kom | D110: 4 | F110: =IF(D110="","",ROUND(D110*ROUND(E110,2),2)) -> 0
F111: =IF(D111="","",ROUND(D111*ROUND(E111,2),2))
F112: =IF(D112="","",ROUND(D112*ROUND(E112,2),2))
A113: =4+1 -> 5 | B113: Izvedba protupožarnog brtvljenja na prolazu čelične pocinčane cijevi za protupožarnu vodu kroz betonski strop/zid na granici požarnog sektora. Protupožarno brtvljenje izvesti za trajnost vatrootpornosti od 90 minuta sa vatrozaštitnom masom. Uz svaki brtvljeni prolaz postaviti odgovarajuću natpisnu pločicu za označavanje. Dimenzija otvora na prolazu cijevi mora biti takve veličine da protupožarni materijal ispuni min. 40% površine otvora. U cijeni stavke sve komplet do potpune funkcionalnosti. | F113: =IF(D113="","",ROUND(D113*ROUND(E113,2),2))
B114: čelična pocinčana cijev ø50 mm | C114: kom | D114: 4 | F114: =IF(D114="","",ROUND(D114*ROUND(E114,2),2)) -> 0
F115: =IF(D115="","",ROUND(D115*ROUND(E115,2),2))
B116: b/ GLAVNI SANITARNI RAZVOD | F116: =IF(D116="","",ROUND(D116*ROUND(E116,2),2))
A117: =A113+1 -> 6 | B117: Dobava i montaža višeslojnih plastičnih cijevi za vodoovdnu instalaciju sa spojnim komadima sukladno važećoj zakonskoj regulativi. | F117: =IF(D117="","",ROUND(D117*ROUND(E117,2),2))
B118: Cijevi se polažu u instalacijski kanal, šliceve izvedene u zidovima objekta, zidne usjeke, proboje i ispod stropa građevine. Na 2 metar dužna cijevi uključiti 3 spojna komada (koljeno, T komad, redukcijski komad, pelazni komad i dr.). | F118: =IF(D118="","",ROUND(D118*ROUND(E118,2),2))
B119: U cijenu uključiti materijal za pričvršćivanje cijevi pomoću kliznih i čvrstih točaka, cijevi se pričvršćuju na svakih 1,0 metara ovisno o profilu cijevi i uputama proizvođača. | F119: =IF(D119="","",ROUND(D119*ROUND(E119,2),2))
B120: Cijevi se izoliraju teško gorivom toplinskom izolacijom. Kod dopreme cijevi i spojnih komada na gradilište izvođač je obavezan nadzornom inženjeru dostaviti na uvid dokument - ispitivanje od strane JAVNOG ZDRAVSTVA temeljem kojeg se jamči da je materijal upotrijebljiv za pitku vodu (za ljudsku upotrebu). U cijeni sve komplet do potpune funkcionalnosti. | F120: =IF(D120="","",ROUND(D120*ROUND(E120,2),2))
F121: =IF(D121="","",ROUND(D121*ROUND(E121,2),2))
B122: 1/ razvod pod stropom | F122: =IF(D122="","",ROUND(D122*ROUND(E122,2),2))
A123: 1 | B123: cijev DN40 mm | C123: m1 | D123: 12 | F123: =IF(D123="","",ROUND(D123*ROUND(E123,2),2)) -> 0
F124: =IF(D124="","",ROUND(D124*ROUND(E124,2),2))
B125: 2/ razvod u podu i zidu | F125: =IF(D125="","",ROUND(D125*ROUND(E125,2),2))
A126: =A123+1 -> 2 | B126: cijev DN20 mm | C126: m1 | D126: 144 | F126: =IF(D126="","",ROUND(D126*ROUND(E126,2),2)) -> 0
A127: =A126+1 -> 3 | B127: cijev DN25 mm | C127: m1 | D127: 78 | F127: =IF(D127="","",ROUND(D127*ROUND(E127,2),2)) -> 0
A128: =A127+1 -> 4 | B128: cijev DN32 mm | C128: m1 | D128: 18 | F128: =IF(D128="","",ROUND(D128*ROUND(E128,2),2)) -> 0
A129: =A128+1 -> 5 | B129: cijev DN40 mm | C129: m1 | D129: 24 | F129: =IF(D129="","",ROUND(D129*ROUND(E129,2),2)) -> 0
...

Sheet c. elektro radovi
B1: ELEKTROINSTALACIJE
A4: =A222 -> 1.0 | B4: =B222 -> ELEKTROENERGETSKE INSTALACIJE UKUPNO: | F4: =F222 -> 0
A5: =A277 -> 2.0 | B5: =B277 -> RASVJETNA TIJELA UKUPNO: | F5: =F277 -> 0
A6: =A327 -> 3.0 | B6: =B327 -> INSTALACIJE KOMUNIKACIJE UKUPNO: | F6: =F327 -> 0
A7: =A342 -> 4.0 | B7: =B342 -> RTV INSTALACIJA UKUPNO: | F7: =F342 -> 0
A8: =A416 -> 5.0 | B8: =B416 -> VATRODOJAVA UKUPNO: | F8: =F416 -> 0
A9: =A448 -> 6.0 | B9: =B448 -> OZVUČENJE UKUPNO: | F9: =F448 -> 0
A10: =A476 -> 7.0 | B10: =B476 -> GROMOBRAN, IZJEDNAČENJE POTENCIJALA UKUPNO: | F10: =F476 -> 0
B12: ELEKTROINSTALACIJE UKUPNO | F12: =SUM(F4:F11) -> 0
B14: PDV 25% | F14: =ROUND(F12*0.25,2) -> 0
B16: SVEUKUPNO EUR: | F16: =SUM(F12:F15) -> 0
B20: TROŠKOVNIK ELEKTROINSTALACIJSKIH RADOVA
A22: R.br. | B22: Opis stavke | C22: JM | D22: količina | E22: JC (EUR) | F22: UC (EUR)
A24: 1.0 | B24: ELEKTROENERGETSKE INSTALACIJE
A26: 1 | B26: Dobava potrebnog materijala i pribora i osiguravanje napajanja električnom energijom za sve sudionike na gradilištu. | C26: kpl | D26: 1 | F26: =IF(E26="","",ROUND(D26*ROUND(E26,2),2))
F27: =IF(E27="","",ROUND(D27*ROUND(E27,2),2))
A28: 2 | B28: Demontaža postojećih svjetiljka na fasadi | C28: kom | D28: 4 | F28: =IF(E28="","",ROUND(D28*ROUND(E28,2),2))
A30: 3 | B30: Dobava potrebnog materijala i pribora i radovi na postojećem GRMO ormaru, radi priključenja razvodnog ormara dogradnje prizemlja R1_d: | F30: =IF(E30="","",ROUND(D30*ROUND(E30,2),2))
B31: detekcija i ispitivanje postojećih strujnih krugova a radi priključenja razvodnog ormara dogradnje (kpl 1) | F31: =IF(E31="","",ROUND(D31*ROUND(E31,2),2))
B32: automatski instalacijski osigurač 80 A/kar. B, 3-p, prekidne moći 10kA (kom 1) | F32: =IF(E32="","",ROUND(D32*ROUND(E32,2),2))
B33: plastični kanali i spojni materijal, vodiči za ožičenje glavnih i pomoćnih strujnih krugova, izolacijske ploče i pregrade (kpl 1) | F33: =IF(E33="","",ROUND(D33*ROUND(E33,2),2))
B34: postavljanje oznaka elemenata razdjelnice u skladu s oznakama na jednopolnoj shemi, natpis upozorenja o prisutnosti napona, o vrsti primijenjene zaštite od previsokog napona dodira, natpis s nazivom razdjelnice, jednopolna shema zaštićena plastičnom folijom, uputstvo za davanje prve pomoći u slučaju udara struje (kpl 1) | F34: =IF(E34="","",ROUND(D34*ROUND(E34,2),2))
B35: provjera ispravnosti montaže, i ispitivanje funkcionalnog djelovanja, izdavanje ispitnog protokola ovlaštenog ispitivača i svih potrebnih certifikata i atesta (kpl 1) | F35: =IF(E35="","",ROUND(D35*ROUND(E35,2),2))
B36: ukupno sve pod rednim brojem 1.3: | C36: kpl | D36: 1 | F36: =IF(E36="","",ROUND(D36*ROUND(E36,2),2))
F37: =IF(E37="","",ROUND(D37*ROUND(E37,2),2))
A38: 4 | B38: Dobava, montaža, i spajanje razdjelnice dogradnje prizemlja R1_d, izrađene kao zidni ugradni ormar sa mogućnošću ugradnje minimalno 96 modula i sa mogućošću ugradnje 4 signalne žaruljice na vratima. Ormar opremiti sa: | F38: =IF(E38="","",ROUND(D38*ROUND(E38,2),2))
B39: razvodni ormar prema gornjem opisu (kpl 1) | F39: =IF(E39="","",ROUND(D39*ROUND(E39,2),2))
B40: tropolni kompaktni prekidač s termo-magnetskim okidačem, podesive zaštita od preopterećenja min. 0,7-1xIn, 80A, 3-p, min. 16kA, 400/230V (kpl 1) | F40: =IF(E40="","",ROUND(D40*ROUND(E40,2),2))
B41: tipkalo za isključenje glavne sklopke, s ravnom tipkom, crveno, ugradnja na vratima (kom 1) | F41: =IF(E41="","",ROUND(D41*ROUND(E41,2),2))
B42: katodni odvodnik prenapona kl. B+C, 25 kA po polu, 100/275, 4+0 (kom 1) | F42: =IF(E42="","",ROUND(D42*ROUND(E42,2),2))
B43: zaštitni uređaj diferencijalne struje greške (ZUDS), 40A, 30 mA, 4-p (kom 2) | F43: =IF(E43="","",ROUND(D43*ROUND(E43,2),2))
B44: zaštitni uređaj diferencijalne struje greške (ZUDS), 25A, 30 mA, 2-p (kom 1) | F44: =IF(E44="","",ROUND(D44*ROUND(E44,2),2))
B45: kombinirana zaštitna sklopka KZS C10/0,03A, 2p | F45: =IF(E45="","",ROUND(D45*ROUND(E45,2),2))
B46: automatski instalacijski osigurač 80 A/kar. C, 3-p, prekidne moći 10kA (kom 1) | F46: =IF(E46="","",ROUND(D46*ROUND(E46,2),2))
B47: automatski instalacijski osigurač 40 A/kar. C, 3-p, prekidne moći 10kA (kom 2) | F47: =IF(E47="","",ROUND(D47*ROUND(E47,2),2))
B48: automatski instalacijski osigurač 25 A/kar. C, 1-p, prekidne moći 10kA (kom 1) | F48: =IF(E48="","",ROUND(D48*ROUND(E48,2),2))
B49: automatski instalacijski osigurač 16 A/kar. C, 1-p, prekidne moći 10kA (kom 11) | F49: =IF(E49="","",ROUND(D49*ROUND(E49,2),2))
B50: automatski instalacijski osigurač 10 A/kar. C, 1-p, prekidne moći 10kA (kom 9) | F50: =IF(E50="","",ROUND(D50*ROUND(E50,2),2))
... B52: automatski instalacijski DC osigurač 4 A/kar. C, 2-p, prekidne moći 10kA (kom 1) | F52: =IF(E52="","",ROUND(D52*ROUND(E52,2),2))
B53: instalacijski sklopnik 1NC, 16A, 230V (kom 1)
B54: instalacijski sklopnik 3NC, 10A, 230V (kom 1) | F54: =IF(E54="","",ROUND(D54*ROUND(E54,2),2))
B55: instalacijski sklopnik 1NC, 10A, 230V (kom 1) | F55: =IF(E55="","",ROUND(D55*ROUND(E55,2),2))
B56: instalacijski sklopnik 1NO, 10A, 230V (kom 2) | F56: =IF(E56="","",ROUND(D56*ROUND(E56,2),2))
B57: instalacijski sklopnik 1NO, 6A, 24V (kom 1) | F57: =IF(E57="","",ROUND(D57*ROUND(E57,2),2))
B58: odvojni transformator 230/24V, za ugradnju na DIN šinu (kom 1) | F58: =IF(E58="","",ROUND(D58*ROUND(E58,2),2))
B59: grebenasta preklopka 1-0-2, 10A, za ugradnju na DIN šinu (kom 1) | F59: =IF(E59="","",ROUND(D59*ROUND(E59,2),2))
B60: grebenasta preklopka 0-1, 10A, za ugradnju na DIN šinu (kom 1) | F60: =IF(E60="","",ROUND(D60*ROUND(E60,2),2))
B61: žaruljice za signalizaciju stanja zaklopki 230V, ugradnja na vratima ormara, crvena ili zelena boja (kom 4) | F61: =IF(E61="","",ROUND(D61*ROUND(E61,2),2))
B62: dvokanalni digitalni vremenski uklopni sat (kom 1) | F62: =IF(E62="","",ROUND(D62*ROUND(E62,2),2))
B63: vremenski relej, komplet sa vanjskom fotosondom (kom 1) | F63: =IF(E63="","",ROUND(D63*ROUND(E63,2),2))
B64: redne stezaljke (kom 40) | F64: =IF(E64="","",ROUND(D64*ROUND(E64,2),2))
B65: plastični kanali i spojni materijal, vodiči za ožičenje glavnih i pomoćnih strujnih krugova, izolacijske ploče i pregrade (kpl 1) | F65: =IF(E65="","",ROUND(D65*ROUND(E65,2),2))
B66: postavljanje oznaka elemenata razdjelnice u skladu s oznakama na jednopolnoj shemi, natpis upozorenja o prisutnosti napona, o vrsti primijenjene zaštite od previsokog napona dodira, natpis s nazivom razdjelnice, jednopolna shema zaštićena plastičnom folijom, uputstvo za davanje prve pomoći u slučaju udara struje (kpl 1) | F66: =IF(E66="","",ROUND(D66*ROUND(E66,2),2))
B67: provjera ispravnosti montaže, i ispitivanje funkcionalnog djelovanja, izdavanje ispitnog protokola ovlaštenog ispitivača i svih potrebnih certifikata i atesta (kpl 1)
B68: ukupno sve stavke pod rednim brojem 1.4: | C68: kpl | D68: 1 | F68: =IF(E68="","",ROUND(D68*ROUND(E68,2),2))
F69: =IF(E69="","",ROUND(D69*ROUND(E69,2),2))
A70: 5 | B70: Dobava, montaža, i spajanje razdjelnice dogradnje kata R2_d, izrađene kao zidni ugradni razvodni ormar za ugradnju minimalno 160 modula. Ormar opremiti sa: | F70: =IF(E70="","",ROUND(D70*ROUND(E70,2),2))
B71: ormar prema gornjem opisu (kom 1)
B72: automatski instalacijski osigurač 63 A/kar. C, 3-p, prekidne moći 10kA, sa prigrađenim daljinskim okidačem (kom 1)
B73: tipkalo za isključenje glavne sklopke, s ravnom tipkom, crveno, ugradnja na vratima (kom 1)
B74: katodni odvodnik prenapona kl. C, 12,5 kA po polu, 50/275, 4+0 (kom 1)
B75: zaštitni uređaj diferencijalne struje greške (ZUDS), 40A, 30 mA, 4-p (kom 4)
B76: zaštitni uređaj diferencijalne struje greške (ZUDS), 25A, 30 mA, 4-p (kom 1)
B77: zaštitni uređaj diferencijalne struje greške (ZUDS), 25A, 30 mA, 2-p (kom 1)
B78: zaštitni uređaj diferencijalne struje greške (ZUDS), 16A, 30 mA, 2-p (kom 2)
B79: automatski instalacijski osigurač 40 A/kar. C, 3-p, prekidne moći 10kA (kom 4)
B80: automatski instalacijski osigurač 25 A/kar. C, 3-p, prekidne moći 10kA (kom 1)
B81: automatski instalacijski osigurač 25 A/kar. C, 1-p, prekidne moći 10kA (kom 1)
B82: automatski instalacijski osigurač 16 A/kar. C, 3-p, prekidne moći 10kA (kom 4)
... B98: provjera ispravnosti montaže, i ispitivanje funkcionalnog djelovanja, izdavanje ispitnog protokola ovlaštenog ispitivača i svih potrebnih certifikata i atesta (kpl 1)
B99: ukupno sve stavke pod rednim brojem 1.5: | C99: kpl | D99: 1 | F99: =IF(E99="","",ROUND(D99*ROUND(E99,2),2))
F100: =IF(E100="","",ROUND(D100*ROUND(E100,2),2))
A101: 6 | B101: Dobava i ugradnja stropnog držača za kabele ili zaštitne cijevi, razne veličine prihvata broja kabela ili cijevi | F101: =IF(E101="","",ROUND(D101*ROUND(E101,2),2))
A102: 1 | B102: plastični | C102: kom | D102: 100 | F102: =IF(E102="","",ROUND(D102*ROUND(E102,2),2))
A103: =A102+1 -> 2 | B103: metalni vatrootporni | C103: kom | D103: 40 | F103: =IF(E103="","",ROUND(D103*ROUND(E103,2),2))
F104: =IF(E104="","",ROUND(D104*ROUND(E104,2),2))
A105: 7 | B105: Dobava i ugradnja štemanjem u zidu (kompleta) podžbuknih kutija. | F105: =IF(E105="","",ROUND(D105*ROUND(E105,2),2))
A106: 1 | B106: požbukna kutija Ø60 | C106: kom | D106: 120 | F106: =IF(E106="","",ROUND(D106*ROUND(E106,2),2))
A107: =A106+1 -> 2 | B107: požbukna kutija Ø78 s poklopcem | C107: kom | D107: 40 | F107: =IF(E107="","",ROUND(D107*ROUND(E107,2),2))
A108: =A107+1 -> 3 | B108: požbukna kutija 100x100 s poklopcem | C108: kom | D108: 25 | F108: =IF(E108="","",ROUND(D108*ROUND(E108,2),2))
A109: =A108+1 -> 4 | B109: nadžbukna kutija 100x100 s poklopcem | C109: kom | D109: 18 | F109: =IF(E109="","",ROUND(D109*ROUND(E109,2),2))
F110: =IF(E110="","",ROUND(D110*ROUND(E110,2),2))
A111: 8 | B111: Dobava, montaža u zid i spajanje kompleta instalacijskih podžbuknih i nadžbuknih sklopki i priključnica. | F111: =IF(E111="","",ROUND(D111*ROUND(E111,2),2))
A112: 1 | B112: Obična sklopka 10 A, 230 V | C112: kom | D112: 22 | F112: =IF(E112="","",ROUND(D112*ROUND(E112,2),2))
A113: =A112+1 -> 2 | B113: Izmjenična sklopka, 10 A, 230 V | C113: kom | D113: 2 | F113: =IF(E113="","",ROUND(D113*ROUND(E113,2),2))
A114: =A113+1 -> 3 | B114: Priključnica, 16 A, 230 V, 2P+PE | C114: kom | D114: 41 | F114: =IF(E114="","",ROUND(D114*ROUND(E114,2),2))
A115: =A114+1 -> 4 | B115: Priključnica, 16 A, 230 V, 2P+PE, 2-struka | C115: kom | D115: 17 | F115: =IF(E115="","",ROUND(D115*ROUND(E115,2),2))
A116: =A115+1 -> 5 | B116: priključnica RJ45, cat. 6, 2-struka | C116: kom | D116: 18 | F116: =IF(E116="","",ROUND(D116*ROUND(E116,2),2))
A117: =A116+1 -> 6 | B117: USB-A zidna priključnica (za priključak računala na interaktivni ekran). U cijeni stavke uključiti i dodatnu podžbuknu kutiju sa slijepim modulom za spajanje USB kabela prema slijedećoj USB priključnici | C117: kpl | D117: 8 | F117: =IF(E117="","",ROUND(D117*ROUND(E117,2),2))
F118: =IF(E118="","",ROUND(D118*ROUND(E118,2),2))
A119: 9 | B119: Dobava, montaža i spajanje stropnog 360° detektora pokreta za paljenje rasvjete | C119: kpl | D119: 10 | F119: =IF(E119="","",ROUND(D119*ROUND(E119,2),2))
F120: =IF(E120="","",ROUND(D120*ROUND(E120,2),2))
A121: 10 | B121: Dobava potrebnog pribora i izrada jednofaznog el. podnog izvoda | C121: kom | D121: 8 | F121: =IF(E121="","",ROUND(D121*ROUND(E121,2),2))
F122: =IF(E122="","",ROUND(D122*ROUND(E122,2),2))
A123: 11 | B123: Dobava potrebnog pribora i izrada komunikacijskog podnog izvoda | C123: kom | D123: 28 | F123: =IF(E123="","",ROUND(D123*ROUND(E123,2),2))
F124: =IF(E124="","",ROUND(D124*ROUND(E124,2),2))
A125: 12 | B125: Dobava potrebnog pribora i izrada jednofaznog el. izvoda | C125: kom | D125: 5 | F125: =IF(E125="","",ROUND(D125*ROUND(E125,2),2))
F126: =IF(E126="","",ROUND(D126*ROUND(E126,2),2))
A127: 13 | B127: Dobava potrebnog pribora i izrada komunikacijskog izvoda | C127: kom | D127: 1 | F127: =IF(E127="","",ROUND(D127*ROUND(E127,2),2))
F128: =IF(E128="","",ROUND(D128*ROUND(E128,2),2))
...

Sheet d. strojarski
B1: STROJARSKI RADOVI
A4: =A183 -> 1.0 | B4: =B183 -> SUSTAV GRIJANJA, HLAĐENJA I PRIPREME PTV UKUPNO: | F4: =F183 -> 0
A5: =A267 -> 2.0 | B5: =B267 -> SUSTAV VENTILACIJE UKUPNO: | F5: =F267 -> 0
B8: STROJARSKI RADOVI UKUPNO | F8: =SUM(F4:F7) -> 0
B10: PDV 25% | F10: =ROUND(F8*0.25,2) -> 0
B12: SVEUKUPNO EUR: | F12: =SUM(F8:F11) -> 0
B16: TROŠKOVNIK STROJARSKIH RADOVA
A18: R.br. | B18: Opis stavke | C18: JM | D18: količina | E18: JC (EUR) | F18: UC (EUR)
A20: 1.0 | B20: SUSTAV GRIJANJA, HLAĐENJA I PRIPREME PTV
B22: NAPOMENA: U svim dolje navedenim stavkama troškovnika obuhvaćena je dobava materijala, uključivo i sav nespecificirani pomoćni i osnovni materijal, vijci, tiple, radnu i zaštitnu skelu, spojnice i sl. za izradu trasa i svih pomoćnih konstrukcija prema usvojenim standardima i pravilima struke za termotehničke instalacije. Opremu je potrebno ugraditi do potpune funkcionalnosti i gotovosti, a uz istu je potrebno dostaviti važeću izjavu o sukladnosti/svojstvima, tehničke upute te garancijske listove.
A24: 1 | B24: Dobava i ugradnja split dizalica topline zrak/voda, koja kontinuirano prilagođava izlaznu snagu stvarnim potrebama objekta, čime osigurava optimalne performanse rada. Dizalica topline se koristi za grijanje i hlađenje prostora te pripremu PTV-a. Omogućuje postavljanje temperature polaza vode u krugovima grijanja prema krivulji i vanjskoj temperaturi.
B25: Uređaj ima integrirane: električnu cirkulacijsku pumpu s kontinuiranim podešavanjem protoka, temperaturne senzore, senzor protoka, senzore tlaka za rashladni sustav. Unutarnja jedinica ima ugrađen pomoćni električni grijač.
B26: U cijenu uključiti probni rad instalacije (topla proba), dizalice topline od strane ovlaštenih servisera na području RH, te puštanje u redovan pogon do potpune funkcionalnosti postrojenja, uključivo mjerenje projektiranih parametara
B27: Qgr=16.8kW (A7/W35) ±15% Qgr=16.1kW (A7/W55) ±15% Qgr=14.3kW (A0/W35) ±15% Qgr=12.8kW (A0/W55) ±15% Qgr=10.7kW (A-15/W35) ±10% Qgr=6.82kW (A-15/W55) ±10%
B28: Qhl=14kW (A35/W7) ±10%
B29: SCOP (pros. klim. uvjeti): min. 4.5 (W35), min. 3.2 (W55) SEER: min. 4.5 (W7), min. 6.0 (W18)
B30: integrirani el. grijač: maks. 9kW
B31: priključna snaga - dizalica topline - vanjska jedinica: maks. 6.7kW (400V/3f/50Hz)
B32: priključna snaga - dizalica topline - unutarnja jedinica: maks. 9.5kW (400V/3f/50Hz)
B33: Razina zvučne snage - unutarnja jedinica: maks. 48dB(A)
B34: Razina zvučne snage - vanjska jedinica: maks. 72dB(A)
C35: kpl | D35: 2 | F35: =IF(E35="","",ROUND(D35*ROUND(E35,2),2))
F36: =IF(E36="","",ROUND(D36*ROUND(E36,2),2))
A37: =A24+1 -> 2 | B37: Dobava/izrada postolja za ugradnju dizalice topline na ravnom krovu. U cijenu uključiti antivibracijske nogice/podloške te sav spojni i montažni pribor do potpune gotovosti. | C37: kpl | D37: 2 | F37: =IF(E37="","",ROUND(D37*ROUND(E37,2),2))
F38: =IF(E38="","",ROUND(D38*ROUND(E38,2),2))
A39: =A37+1 -> 3 | B39: Dobava i ugradnja automatike za dizalicu topline, koja može upravljati minimalno slijedećim funkcijama: | F39: =IF(E39="","",ROUND(D39*ROUND(E39,2),2))
B40: - dvije dizalice topline u kaskadi | F40: =IF(E40="","",ROUND(D40*ROUND(E40,2),2))
B41: - akumulacijski spremnik | F41: =IF(E41="","",ROUND(D41*ROUND(E41,2),2))
B42: - direktan krug grijanja/hlađenja | F42: =IF(E42="","",ROUND(D42*ROUND(E42,2),2))
B43: - miješajući krug grijanja | F43: =IF(E43="","",ROUND(D43*ROUND(E43,2),2))
B44: -vođenje krugova grijanja prema vanjskoj temperaturi | F44: =IF(E44="","",ROUND(D44*ROUND(E44,2),2))
C45: kpl | D45: 1 | F45: =IF(E45="","",ROUND(D45*ROUND(E45,2),2))
F46: =IF(E46="","",ROUND(D46*ROUND(E46,2),2))
A47: =A39+1 -> 4 | B47: Dobava i ugradnja izoliranog akumulacijskog spremnika tople i hladne vode, zajedno sa spojnim i montažnim materijalom. | F47: =IF(E47="","",ROUND(D47*ROUND(E47,2),2))
B48: volumen: 200 litara ±15% | F48: =IF(E48="","",ROUND(D48*ROUND(E48,2),2))
B49: razred energetske učinkovitosti: min. C | F49: =IF(E49="","",ROUND(D49*ROUND(E49,2),2))
B50: priključci: 4x min. 6/4'' | F50: =IF(E50="","",ROUND(D50*ROUND(E50,2),2))
C51: kom | D51: 1 | F51: =IF(E51="","",ROUND(D51*ROUND(E51,2),2))
F52: =IF(E52="","",ROUND(D52*ROUND(E52,2),2))
A53: =A47+1 -> 5 | B53: Dobava i ugradnja na zid dizalice topline zrak/voda za pripremu PTV-a, zajedno sa spojnim i montažnim priborom. U cijenu uključiti puštanje u rad. NAPOMENA: Ugradnja spiro cijevi obuhvaćena troškovnikom ventilacije. | F53: =IF(E53="","",ROUND(D53*ROUND(E53,2),2))
B54: volumen spremnika: 110litara ±10% | F54: =IF(E54="","",ROUND(D54*ROUND(E54,2),2))
B55: Q(A20/W15-55)=min. 0.85kW | F55: =IF(E55="","",ROUND(D55*ROUND(E55,2),2))
B56: COP(A20/W15-55)= min. 3.4 | F56: =IF(E56="","",ROUND(D56*ROUND(E56,2),2))
B57: razred energetske učinkovitosti: min. A+ | F57: =IF(E57="","",ROUND(D57*ROUND(E57,2),2))
B58: pomoćni el. grijač: maks. 2kW | F58: =IF(E58="","",ROUND(D58*ROUND(E58,2),2))
B59: dimenzije zračnih kanala: ∅160 | F59: =IF(E59="","",ROUND(D59*ROUND(E59,2),2))
B60: priključna snaga - DT+EG: maks. 2.52kW (230V/1f/50Hz) | F60: =IF(E60="","",ROUND(D60*ROUND(E60,2),2))
C61: kom | D61: 1 | F61: =IF(E61="","",ROUND(D61*ROUND(E61,2),2))
F62: =IF(E62="","",ROUND(D62*ROUND(E62,2),2))
A63: =A53+1 -> 6 | B63: Dobava i ugradnja ekspanzijske posude za grijanje i hlađenje, zajedno sa spojnim i montažnim materijalom. | F63: =IF(E63="","",ROUND(D63*ROUND(E63,2),2))
B64: volumen: 18 litre ±10% maks. radni tlak: min. 6bar | C64: kom | D64: 1 | F64: =IF(E64="","",ROUND(D64*ROUND(E64,2),2))
F65: =IF(E65="","",ROUND(D65*ROUND(E65,2),2))
A66: =A63+1 -> 7 | B66: Dobava i ugradnja ekspanzijske posude za PTV, zajedno sa spojnim i montažnim materijalom. | F66: =IF(E66="","",ROUND(D66*ROUND(E66,2),2))
B67: volumen: 8 litara ±10% maks. radni tlak: min. 8bar | C67: kom | D67: 1 | F67: =IF(E67="","",ROUND(D67*ROUND(E67,2),2))
F68: =IF(E68="","",ROUND(D68*ROUND(E68,2),2))
A69: =A66+1 -> 8 | B69: Dobava/izrada polazno povratnog razdjelnika, zajedno sa spojnim i montažnim materijalom. Izolacija: FEF min. 19mm (parna brana (μ>7000)). U cijenu uključiti i noge se postavljanje na pod te montažni pribor. Tijelo razdjelnika unutarnja cijev DN65, vanjska DN100, duljina L=1000mm | F69: =IF(E69="","",ROUND(D69*ROUND(E69,2),2))
B70: priključci: primar - 1x DN40 sekundar - 2x DN40 | C70: kpl | D70: 1 | F70: =IF(E70="","",ROUND(D70*ROUND(E70,2),2))
F71: =IF(E71="","",ROUND(D71*ROUND(E71,2),2))
A72: =A69+1 -> 9 | B72: Dobava i ugradnja visokoučinkovite cirkulacijske pumpe za grijanje/hlađenje s mokrim rotorom bez potrebe održavanja, sa navojnim ili prirubničkim spojem, sinkronim motorom i integriranom elektronskom regulacijom snage, s visokim stupnjem iskoristivosti i visokim pokretnim momentom, uključujući automatsku funkciju deblokiranja, te sa svim spojnim i montažnim materijalom. | F72: =IF(E72="","",ROUND(D72*ROUND(E72,2),2))
B73: krug podnog grijanja i krug ventilokonvektorskog grijanja min. H=6m pri Q=5m3/h | C73: kom | D73: 2 | F73: =IF(E73="","",ROUND(D73*ROUND(E73,2),2))
F74: =IF(E74="","",ROUND(D74*ROUND(E74,2),2))
A75: =A72+1 -> 10 | B75: Dobava i ugradnja visokoučinkovite cirkulacijske pumpe za PTV (pitka voda) s mokrim rotorom bez potrebe održavanja, sa navojnim ili prirubničkim spojem, sinkronim motorom i integriranom elektronskom regulacijom snage, s visokim stupnjem iskoristivosti i visokim pokretnim momentom, uključujući automatsku funkciju deblokiranja, te sa svim spojnim i montažnim materijalom. | F75: =IF(E75="","",ROUND(D75*ROUND(E75,2),2))
B76: recirkulacija PTV-a min. H=2.8 pri Q=1m3/h | C76: kom | D76: 1 | F76: =IF(E76="","",ROUND(D76*ROUND(E76,2),2))
F77: =IF(E77="","",ROUND(D77*ROUND(E77,2),2))
A78: =A75+1 -> 11 | B78: Dobava i ugradnja troputnog miješajućeg ventila s elektromotornim pogonom, zajedno sa spojnim i montažnim priborom. | F78: =IF(E78="","",ROUND(D78*ROUND(E78,2),2))
B79: ventil: DN40, min. Kvs=25m3/h pogon: 60s/90°; maks. 15W (230V/1f/50Hz) | C79: kom | D79: 1 | F79: =IF(E79="","",ROUND(D79*ROUND(E79,2),2))
F80: =IF(E80="","",ROUND(D80*ROUND(E80,2),2))
A81: =A78+1 -> 12 | B81: Dobava i ugradnja kuglastog ventila ili prolaznog zapornog, zajedno sa spojnim i montažnim materijalom. Obračun prema točno ugrađenom broju komada | F81: =IF(E81="","",ROUND(D81*ROUND(E81,2),2))
A82: 1 | B82: DN15 | C82: kom | D82: 6 | F82: =IF(E82="","",ROUND(D82*ROUND(E82,2),2))
A83: 2 | B83: DN32 | C83: kom | D83: 6 | F83: =IF(E83="","",ROUND(D83*ROUND(E83,2),2))
A84: 3 | B84: DN40 | C84: kom | D84: 15 | F84: =IF(E84="","",ROUND(D84*ROUND(E84,2),2))
F85: =IF(E85="","",ROUND(D85*ROUND(E85,2),2))
A86: =A81+1 -> 13 | B86: Dobava i ugradnja nepovratnog ventila, zajedno sa spojnim i montažnim materijalom | F86: =IF(E86="","",ROUND(D86*ROUND(E86,2),2))
A87: 1 | B87: DN15 | C87: kom | D87: 3 | F87: =IF(E87="","",ROUND(D87*ROUND(E87,2),2))
A88: 2 | B88: DN32 | C88: kom | D88: 2 | F88: =IF(E88="","",ROUND(D88*ROUND(E88,2),2))
A89: 3 | B89: DN40 | C89: kom | D89: 2 | F89: =IF(E89="","",ROUND(D89*ROUND(E89,2),2))
F90: =IF(E90="","",ROUND(D90*ROUND(E90,2),2))
A91: =A86+1 -> 14 | B91: Dobava i ugradnja hvatača nečistoća, zajedno sa spojnim i montažnim materijalom | F91: =IF(E91="","",ROUND(D91*ROUND(E91,2),2))
B92: DN40 | C92: kom | D92: 2 | F92: =IF(E92="","",ROUND(D92*ROUND(E92,2),2))
F93: =IF(E93="","",ROUND(D93*ROUND(E93,2),2))
A94: =A91+1 -> 15 | B94: Dobava i ugradnja magnetnog filtra DN40, zajedno sa spojnim i montažnim materijalom | C94: kom | D94: 1 | F94: =IF(E94="","",ROUND(D94*ROUND(E94,2),2))
F95: =IF(E95="","",ROUND(D95*ROUND(E95,2),2))
A96: =A94+1 -> 16 | B96: Dobava i ugradnja sigurnosnog ventila, zajedno sa spojnim i montažnim materijalom | F96: =IF(E96="","",ROUND(D96*ROUND(E96,2),2))
A97: 1 | B97: DN15, 3bar | C97: kom | D97: 1 | F97: =IF(E97="","",ROUND(D97*ROUND(E97,2),2))
A98: 2 | B98: DN15, 6bar | C98: kom | D98: 1 | F98: =IF(E98="","",ROUND(D98*ROUND(E98,2),2))
F99: =IF(E99="","",ROUND(D99*ROUND(E99,2),2))
A100: =A96+1 -> 17 | B100: Dobava i ugradnja termomanometra okrugle izvedbe za mjerno područje T=0-120 ºC i P=0-6 bar zajedno sa zapornim ventilom DN15, te sa spojnim i montažnim materijalom. | C100: kom | D100: 6 | F100: =IF(E100="","",ROUND(D100*ROUND(E100,2),2))
F101: =IF(E101="","",ROUND(D101*ROUND(E101,2),2))
A102: =A100+1 -> 18 | B102: Dobava i ugradnja automatskog odzračnog lončića zajedno sa spojnim i montažnim materijalom. | C102: kom | D102: 8 | F102: =IF(E102="","",ROUND(D102*ROUND(E102,2),2))
F103: =IF(E103="","",ROUND(D103*ROUND(E103,2),2))
A104: =A102+1 -> 19 | B104: Dobava i ugradnja pocinčanih press cijevi u šipkama zajedno s fitinzima, spojnim, montažnim i ovjesnim materijalom. Obračun prema stvarno ugrađenim količinama. | F104: =IF(E104="","",ROUND(D104*ROUND(E104,2),2))
A105: 1 | B105: Ф18x1 | C105: m1 | D105: 2 | F105: =IF(E105="","",ROUND(D105*ROUND(E105,2),2))
A106: =A105+1 -> 2 | B106: Ф22x1 | C106: m1 | D106: 90 | F106: =IF(E106="","",ROUND(D106*ROUND(E106,2),2))
A107: =A106+1 -> 3 | B107: Ф28x1 | C107: m1 | D107: 100 | F107: =IF(E107="","",ROUND(D107*ROUND(E107,2),2))
A108: =A107+1 -> 4 | B108: Ф35x1 | C108: m1 | D108: 40 | F108: =IF(E108="","",ROUND(D108*ROUND(E108,2),2))
A109: =A108+1 -> 5 | B109: Ф42x1 | C109: m1 | D109: 50 | F109: =IF(E109="","",ROUND(D109*ROUND(E109,2),2))
A110: =A109+1 -> 6 | B110: Ф54x2 | C110: m1 | D110: 25 | F110: =IF(E110="","",ROUND(D110*ROUND(E110,2),2))
F111: =IF(E111="","",ROUND(D111*ROUND(E111,2),2))
A112: =A104+1 -> 20 | B112: Dobava i ugradnja cijevne izolacije za hlađenje (otpornu na difuziju vodene pare). Obračun prema stvarno ugrađenim količinama. | F112: =IF(E112="","",ROUND(D112*ROUND(E112,2),2))
A113: 1 | B113: Ф18x1 (min. 11mm) | C113: m1 | D113: 4 | F113: =IF(E113="","",ROUND(D113*ROUND(E113,2),2))
...

Sheet e.vanjsko uređenje
B1: VANJSKO UREĐENJE
A3: =A36 -> 1. | B3: =B36 -> VANJSKI VODOVOD
A5: =A69 -> 1.1 | B5: =B69 -> GRAĐEVINSKI RADOVI UKUPNO: | F5: =F69 -> 0
A6: =A124 -> 1.2 | B6: =B124 -> GRAĐEVINSKI RADOVI UKUPNO: | F6: =F124 -> 0
A8: =A126 -> 2. | B8: =B126 -> VANJSKA KANALIZACIJA
A10: =A153 -> 2.1 | B10: =B153 -> RAZGRAĐIVANJE UKUPNO: | F10: =F153 -> 0
A11: =A176 -> 2.2 | B11: =B176 -> ZEMLJANI RADOVI UKUPNO: | F11: =F176 -> 0
A12: =A196 -> 2.3 | B12: =B196 -> BETONSKI RADOVI UKUPNO: | F12: =F196 -> 0
A13: =A232 -> 2.4 | B13: =B232 -> KANALIZACIJSKI RADOVI UKUPNO: | F13: =F232 -> 0
A15: =A234 -> 3. | B15: UREĐENJE PROMETNIH POVRŠINA
A17: =A253 -> 1 | B17: =B253 -> PRIPREMNI RADOVI UKUPNO: | F17: =F253 -> 0
A18: =A276 -> 2 | B18: =B276 -> ZEMLJANI RADOVI UKUPNO: | F18: =F276 -> 0
A19: =A299 -> 3 | B19: =B299 -> KOLNIČKA KONSTRUKCIJA UKUPNO: | F19: =F299 -> 0
A20: =A311 -> 4 | B20: =B311 -> ODVODNJA UKUPNO: | F20: =F311 -> 0
A21: =A327 -> 5 | B21: =B327 -> OSTALI RADOVI UKUPNO: | F21: =F327 -> 0
B24: VANJSKO UREĐENJE UKUPNO | F24: =SUM(F5:F23) -> 0
B26: PDV 25% | F26: =ROUND(F24*0.25,2) -> 0
B28: SVEUKUPNO EUR: | F28: =SUM(F24:F27) -> 0
B32: TROŠKOVNIK VANJSKOG UREĐENJA
A34: R.br. | B34: Opis stavke | C34: JM | D34: količina | E34: JC (EUR) | F34: UC (EUR)
A36: 1. | B36: VANJSKI VODOVOD
A38: 1.1 | B38: GRAĐEVINSKI RADOVI
A40: 1.1.1. | B40: Strojni i ručni iskop rova u tlu C ktg. za polaganje cijevi vanjskog vodovoda građevine, na dubini do 1,50 m od budućeg uređenog terena. Iskopani materijal odbacivati na udaljenost preko 1,0 m od bočne ivice rova, da se spriječi urušavanje iskopanog materijala u rov. Višak materijala deponirati na gradilišnoj deponiji sa razvrstavanjem materijala za ugradnju nakon postavljanja vodovodnih cijevi. U cijeni stavke crpljenje podzemne vode za potrebe izvedbe radova i razupiranje rova. U cijenu iskopa uračunati planiranje dna rova.
A41: 1.1.1.1. | B41: strojni iskop | C41: m3 | D41: 9 | F41: =IF(D41="","",ROUND(D41*ROUND(E41,2),2)) -> 0
A42: 1.1.1.2. | B42: ručni iskop | C42: m3 | D42: 1.4 | F42: =IF(D42="","",ROUND(D42*ROUND(E42,2),2)) -> 0
A44: 1.1.2. | B44: Dobava pijeska granulacije 0-4 mm, ubacivanje u rov te izrada pješčane posteljice ispod vodovodnih cijevi u sloju debljine d=10 cm.
C45: m3 | D45: 0.8 | F45: =IF(D45="","",ROUND(D45*ROUND(E45,2),2)) -> 0
A47: 1.1.3. | B47: Dobava pijeska granulacije 0-4 mm, ubacivanje u rov, te zatrpavanje cijevi do visine 30 cm iznad tjemena cijevi.
C48: m3 | D48: 3.2 | F48: =IF(D48="","",ROUND(D48*ROUND(E48,2),2)) -> 0
A50: 1.1.4. | B50: Zatrpavanje rova materijalom od iskopa, u slojevima od 30,0 cm, uz istovremeno obilno močenje i nabijanje svakog sloja nasutog materijala ručnim odnosno strojnim nabijačima, Ms=40 MN/m2.
C51: m3 | D51: 4.4 | F51: =IF(D51="","",ROUND(D51*ROUND(E51,2),2)) -> 0
A53: 1.1.5. | B53: Zatrpavanje rova šljunčanim materijalom granulacije 0-63 mm, u slojevima od 30,0 cm, uz istovremeno obilno močenje i nabijanje svakog sloja nasutog materijala ručnim odnosno strojnim nabijačima, Ms=80 MN/m2.
C54: m3 | D54: 2 | F54: =IF(D54="","",ROUND(D54*ROUND(E54,2),2)) -> 0
A56: 1.1.6. | B56: Odvoz materijala preostalog od iskopa na gradsku deponiju udaljenu 10 km. U cijeni utovar materijala na kamion, istovar i planiranje na deponiji.
C57: m3 | D57: 4 | F57: =IF(D57="","",ROUND(D57*ROUND(E57,2),2)) -> 0
A59: 1.1.7. | B59: Sidrenje cjevovoda na mjestima lomova cjevovoda, EV zasuna i na mjestu križanja različitih cjevovoda betonom C 16/20.
A60: 1.1.7.1. | B60: beton C16/20 | C60: m3 | D60: 0.9 | F60: =IF(D60="","",ROUND(D60*ROUND(E60,2),2)) -> 0
A61: 1.1.7.2. | B61: oplata | C61: m2 | D61: 3 | F61: =IF(D61="","",ROUND(D61*ROUND(E61,2),2)) -> 0
A63: 1.1.8. | B63: Izrada suhozida opekom normalnog formata za ugradnju ugradnih garnitura. Obračun po komadu opeke.
C64: kom | D64: 160 | F64: =IF(D64="","",ROUND(D64*ROUND(E64,2),2)) -> 0
A66: 1.1.9. | B66: Izrada betonskih temelja za postavu limenih ormara sa vatrogasnom opremom, betonom C25/30. Dimenzija temelja 80x60x60 cm.
A67: 1.1.9.1. | B67: beton C25/30 | C67: kom | D67: 1 | F67: =IF(D67="","",ROUND(D67*ROUND(E67,2),2)) -> 0
A69: =A38 -> 1.1 | B69: =B38&" UKUPNO:" -> GRAĐEVINSKI RADOVI UKUPNO: | F69: =SUM(F39:F68) -> 0
A71: 1.2 | B71: VODOVODNI RADOVI
B73: Napomena: Jedinične cijeni vodovodnih radova moraju sadržati sva potrebna ispitivanja cjevovoda, tlačne probe, dezinfekciju cjevovoda, ispiranje cjevovoda i uzimanje uzorka vode za labaratorijsko ispitivanje od ovlaštenog laboratorija i prvo ispitivanje hidranske mreže od ovlašene tvrtke, a sve za potrebe provedbe tehničkog pregleda.
A75: 1.2.1. | B75: Dobava i montaža polietilenske PE cijevi iz polietilena visoke gustoće PE 100 za radni tlak 16 bara. Spajanje cijevi izvoditi sučeonim zavarivanjem i zavarivanjem pomoću PE elektrospojnica na mjestu spajanja sa fazonskim komadima.
A76: 1.2.1.1. | B76: DN 63 mm | C76: m1 | D76: 5 | F76: =IF(D76="","",ROUND(D76*ROUND(E76,2),2)) -> 0
A77: 1.2.1.2. | B77: DN 90 mm | C77: m1 | D77: 5 | F77: =IF(D77="","",ROUND(D77*ROUND(E77,2),2)) -> 0
A79: 1.2.2. | B79: Dobava i montaža fazonskih komada za vodovod od polietilena visoke gustoće PE 100 za radni tlak 16 bara. Spajanje izvoditi zavarivanjem PE elektrospojnicama.
A80: 1.2.2.1. | B80: elektrospojnica DN 63 | C80: kom | D80: 2 | F80: =IF(D80="","",ROUND(D80*ROUND(E80,2),2)) -> 0
A81: 1.2.2.2. | B81: elektrospojnica DN 90 | C81: kom | D81: 2 | F81: =IF(D81="","",ROUND(D81*ROUND(E81,2),2)) -> 0
A82: 1.2.2.3. | B82: PE luk 90º DN63 | C82: kom | D82: 1 | F82: =IF(D82="","",ROUND(D82*ROUND(E82,2),2)) -> 0
A83: 1.2.2.4. | B83: PE luk 90º DN90 | C83: kom | D83: 1 | F83: =IF(D83="","",ROUND(D83*ROUND(E83,2),2)) -> 0
A84: 1.2.2.5. | B84: E-PE-HD DN63/50 | C84: kom | D84: 2 | F84: =IF(D84="","",ROUND(D84*ROUND(E84,2),2)) -> 0
A85: 1.2.2.6. | B85: E-PE-HD DN90/80 | C85: kom | D85: 2 | F85: =IF(D85="","",ROUND(D85*ROUND(E85,2),2)) -> 0
F86: =IF(D86="","",ROUND(D86*ROUND(E86,2),2))
A87: 1.2.3. | B87: Dobava i montaža ljevano željeznih spojnih komada, armatura, zasuna i fazonskih komada za izvedbu instalacije. | F87: =IF(D87="","",ROUND(D87*ROUND(E87,2),2))
A88: 1.2.3.1. | B88: "T" komad – ogranak s prirubnicama DN 80/50 | C88: kom | D88: 1 | F88: =IF(D88="","",ROUND(D88*ROUND(E88,2),2)) -> 0
A89: 1.2.3.2. | B89: "T" komad – ogranak s prirubnicama DN 80/80 | C89: kom | D89: 1 | F89: =IF(D89="","",ROUND(D89*ROUND(E89,2),2)) -> 0
A90: 1.2.3.3. | B90: N komad DN80 | C90: kom | D90: 1 | F90: =IF(D90="","",ROUND(D90*ROUND(E90,2),2)) -> 0
A91: 1.2.3.4. | B91: FF spojnica s prirubnicama DN 80, l=300 mm | C91: kom | D91: 1 | F91: =IF(D91="","",ROUND(D91*ROUND(E91,2),2)) -> 0
A92: 1.2.3.5. | B92: FF spojnica s prirubnicama DN 80, l=200 mm | C92: kom | D92: 1 | F92: =IF(D92="","",ROUND(D92*ROUND(E92,2),2)) -> 0
F93: =IF(D93="","",ROUND(D93*ROUND(E93,2),2))
A94: 1.2.4. | B94: Dobava i montaža pocinčane cijevi. | F94: =IF(D94="","",ROUND(D94*ROUND(E94,2),2))
B95: pocinčana cijev Ø50 mm | C95: m1 | D95: 2 | F95: =IF(D95="","",ROUND(D95*ROUND(E95,2),2)) -> 0
F96: =IF(D96="","",ROUND(D96*ROUND(E96,2),2))
A97: 1.2.5. | B97: Dobava i montaža ravnih propusnih ventila s ispustom. | F97: =IF(D97="","",ROUND(D97*ROUND(E97,2),2))
B98: ravni propusni ventil s ispustom Ø50 | C98: kom | D98: 1 | F98: =IF(D98="","",ROUND(D98*ROUND(E98,2),2)) -> 0
F99: =IF(D99="","",ROUND(D99*ROUND(E99,2),2))
A100: 1.2.6. | B100: Dobava i montaža EV zasuna s ugradbenom garniturom za vodu do 40ºC i okruglom uličnom kapom. Dubina ugradnje 1,25 m. | F100: =IF(D100="","",ROUND(D100*ROUND(E100,2),2))
B101: DN 80 | C101: kom | D101: 1 | F101: =IF(D101="","",ROUND(D101*ROUND(E101,2),2)) -> 0
F102: =IF(D102="","",ROUND(D102*ROUND(E102,2),2))
A103: 1.2.7. | B103: Dobava i montaža čeličnih prelaznih komada. | F103: =IF(D103="","",ROUND(D103*ROUND(E103,2),2))
A104: 1.2.7.1. | B104: prelazni komad DN63/ Ø50 mm | C104: kom | D104: 1 | F104: =IF(D104="","",ROUND(D104*ROUND(E104,2),2)) -> 0
A105: 1.2.7.2. | B105: prelazni komad DN90/ Ø80 mm | C105: kom | D105: 1 | F105: =IF(D105="","",ROUND(D105*ROUND(E105,2),2)) -> 0
F106: =IF(D106="","",ROUND(D106*ROUND(E106,2),2))
A107: 1.2.8. | B107: Dobava i montaža nadzemnog hidranta za dubinu ugradnje 1,25 m. | F107: =IF(D107="","",ROUND(D107*ROUND(E107,2),2))
B108: nadzemni hidrant NO80 | C108: kom | D108: 1 | F108: =IF(D108="","",ROUND(D108*ROUND(E108,2),2)) -> 0
F109: =IF(D109="","",ROUND(D109*ROUND(E109,2),2))
A110: 1.2.9. | B110: Dobava i montaža limenog ormarića za nadzemni hidrant dimenzija: 540x1080/1060x185 mm za smještaj vatrogasnog pribora. | F110: =IF(D110="","",ROUND(D110*ROUND(E110,2),2))
C111: kom | D111: 1 | F111: =IF(D111="","",ROUND(D111*ROUND(E111,2),2)) -> 0
F112: =IF(D112="","",ROUND(D112*ROUND(E112,2),2))
A113: 1.2.10. | B113: Dobava i montaža vatrogasnog pribora u hidrantski ormarić. | F113: =IF(D113="","",ROUND(D113*ROUND(E113,2),2))
A114: 1.2.10.1 | B114: vatrogasno crijevo Ø52 dužine 15 m | C114: kom | D114: 2 | F114: =IF(D114="","",ROUND(D114*ROUND(E114,2),2)) -> 0
A115: 1.2.10.2 | B115: mlaznica sa zasunom Ø52 | C115: kom | D115: 1 | F115: =IF(D115="","",ROUND(D115*ROUND(E115,2),2)) -> 0
A116: 1.2.10.3 | B116: ključ za nadzemni hidrant | C116: kom | D116: 1 | F116: =IF(D116="","",ROUND(D116*ROUND(E116,2),2)) -> 0
A117: 1.2.10.4 | B117: ključ ABC spojke | C117: kom | D117: 1 | F117: =IF(D117="","",ROUND(D117*ROUND(E117,2),2)) -> 0
F118: =IF(D118="","",ROUND(D118*ROUND(E118,2),2))
A119: 1.2.11. | B119: Zatvaranje dotoke vode u vodovodnu instalaciju i pražnjenje cjevovoda prije rezanja istog za izvedbu nadzemnog hidranta i priključka unutarnje hidrantske mreže. | F119: =IF(D119="","",ROUND(D119*ROUND(E119,2),2))
A120: 1.2.11.1. | B120: zatvaranje glavnog ventila | C120: kom | D120: 1 | F120: =IF(D120="","",ROUND(D120*ROUND(E120,2),2)) -> 0
A121: 1.2.11.2. | B121: pražnjenje cjevovoda | C121: m1 | D121: 50 | F121: =IF(D121="","",ROUND(D121*ROUND(E121,2),2)) -> 0
A122: 1.2.11.3. | B122: rezanje cjevovoda Ø80 mm | C122: kom | D122: 1 | F122: =IF(D122="","",ROUND(D122*ROUND(E122,2),2)) -> 0
F123: =IF(D123="","",ROUND(D123*ROUND(E123,2),2))
A124: =A71 -> 1.2 | B124: GRAĐEVINSKI RADOVI UKUPNO: | F124: =SUM(F73:F123) -> 0
A126: 2. | B126: VANJSKA KANALIZACIJA
A128: 2.1 | B128: RAZGRAĐIVANJE
A130: 2.1.1. | B130: Uklanjanje LŽ poklopaca dim. 60x60 cm sa postojećih revizijskih okana i postojećih sabirnih jama. U cijeni stavke odvoz sa zbrinjavanjem materijala na deponiju.
C131: kom | D131: 5 | F131: =IF(D131="","",ROUND(D131*ROUND(E131,2),2)) -> 0
A133: 2.1.2. | B133: Strojni i ručni iskop rova u tlu C ktg. na mjestu razgrađivanja postojećih revizijskih okana i uklanjanja postojećih cijevi odvodnje na dubini do 2,00 m. Iskopani materijal odbacivati na udaljenost preko 1,0 m od bočne ivice rova, da se spriječi urušavanje iskopanog materijala u rov. Višak materijala deponirati na gradilišnoj deponiji sa razvrstavanjem materijala za ugradnju nakon razgrađivanja. U cijeni stavke crpljenje podzemne vode za potrebe izvedbe radova i razupiranje rova.
A134: 2.1.2.1. | B134: strojni iskop | C134: m3 | D134: 103 | F134: =IF(D134="","",ROUND(D134*ROUND(E134,2),2)) -> 0
...

Sheet f.dizalo
B1: DIZALO
B4: =B29 -> DIZALO UKUPNO: | F4: =F29 -> 0
B6: PDV 25% | F6: =ROUND((F4*0.25),2) -> 0
B8: SVEUKUPNO EUR: | F8: =SUM(F4:F7) -> 0
B12: TROŠKOVNIK - DIZALO
A14: R.br. | B14: Opis stavke | C14: JM | D14: količina | E14: JC (EUR) | F14: UC (EUR)
B16: OPĆI UVJETI UZ TROŠKOVNIK Cijenom je potrebno obuhvatiti slijedeće: - sav rad i materijal potreban da se stavka izvede - sav transport ljudi - sve skele i pomoćne konstrukcije potrebne da se stavka izvede - prije izrade sve mjere kontrolirati u naravi
B18: DIZALO
A20: 1 | B20: Dobava i ugradnja dizala prema tehničkom opisu. Dizalo je namijenjeno za prijevoz osoba i tereta, prilagođeno za prijevoz osoba s invaliditetom i smanjene pokretljivosti. Vozno okno izvedeno je iz armirano-betonske konstrukcije, unutrašnjih tlocrtnih dimenzija min. 1700 mm x 1800 mm. | F20: =IF(E20="","",ROUND(D20*ROUND(E20,2),2))
B21: Nosivost dizala je min. 630 kg (8 osoba), brzina vožnje min. 0,8 m/s - max. 1,00 m/s. Visina dizanja 3550 mm, dubina jame 1300 mm, nadvišenje 4440 mm.
B22: Dizalo ima 2 postaje, oba ulaza s iste strane. Pogon je električni bezreduktorski, frekvencijski reguliran, smješten u vrhu okna. Snaga elektromotora max. 6 kW, ovjes 2:1.
B23: Upravljanje: mikroprocesorsko, pozivno. Grupa upravljanja smještena je u gornjoj stanici. U slučaju nestanka stalnog napajanja električnom energijom dizalo je opremljeno uređajem za vožnju u stanicu.
B24: Kabina je dimenzija min. 1100 x 1400 mm, visine 2200 mm. Stranice kabine izvedene su iz nehrđajućeg čeličnog lima. Kabina je opremljena rukohvatom, ogledalom, protukliznom oblogom, LED rasvjetom, svjetlosnom zavjesom, upravljačkom kutijom, ventilatorom, dvosmjernim uređajem za komunikaciju koji omogućava stalni kontakt sa spasilačkom službom.
B25: Vrata kabine i vrata voznog okna su automatska teleskopska, posmična s dva krila, dim. svijetlog otvora 900 x 2000 mm. Vrata su izvedena iz nehrđajućeg čeličnog lima, u razredu vatrootpornosti EI 60.
B26: U stavci je uključeno i izdavanje završnog certifikata.
C27: kom | D27: 1 | F27: =IF(E27="","",ROUND(D27*ROUND(E27,2),2))
B29: =B18&" UKUPNO:" -> DIZALO UKUPNO: | F29: =SUM(F19:F28) -> 0

Sheet opći uvjeti
A2: OPĆI UVJETI
A4: Sve stavke ovog troškovnika podrazumijevaju izvođenje svih detalja sa svim konstruktivnim dijelovima, besprijekorno prema nacrtima, tehničkom opisu i ovim općim uvjetima, sve do potpune gotovosti i funkcionalnosti.
A5: Svi radovi moraju se izvoditi prema važećim normama i propisima i uputama proizvođača materijala.
A6: Jedinične cijene stavke obuhvaćaju:
A7: -troškove organizacije gradilišta
A8: -sav osnovni i pomoćni rad, alat i pribor
A9: -osnovni i pomoćni materijal
A10: -unutarnji i i vanjski transport
A11: -uskladištenja
A12: -montaže i demontaže radne skele
A13: -sve mjere zaštite na radu
A14: -troškove organizacije gradilišta
... A369: Izvođač je dužan osigurati da radovi ne utječu negativno na okolni okoliš i biljni / životinjski svijet neposredno uz gradilište.
