Workbook

Sheet NASLOVNA
A2: TROŠKOVNIK RADOVA
A4: Naručitelj: | B4: GRAD ČAKOVEC Ulica kralja Tomislava 15 40000 Čakovec
A6: Projektant: | B6: INGOLAB d.o.o.
B7: Franje Punčeca 6, 40000 Čakovec
B8: OIB: 49129544977
A10: Naziv građevine: | B10: PJEŠAČKA STAZA UZ PROMETNICU ULICE TRGA SV. PETRA I PAVLA I ULICE MEĐGAJE U MAČKOVCU
A12: Vrsta troškovnika: | B12: GRAĐEVINSKI RADOVI
A14: Oznaka: | B14: PR-393-399/2023
A16: Lokacija: | B16: k.č.br. 2356, 1886/1, 1733, k.o. Mačkovec
A18: Projektant: | B18: Velimir Pavlic, dipl.ing.građ.
A22: Suradnik projektanta: | B22: Iva Blažona, univ.bacc.ing.arch.
A25: Direktor: | B25: Velimir Pavlic, dipl.ing.građ.
A29: Mjesto i datum: | B29: Čakovec, lipanj 2023.

Sheet REKAPITULACIJA
A1: REKAPITULACIJA RADOVA
A4: 01.00 | B4: Pripremni radovi i radovi razgradnje | C4: ='01. Pripremni radovi'!F17 -> 0
A6: 02.00 | B6: Zemljani radovi | C6: ='02. Zemljani radovi'!F12 -> 0
A8: 03.00 | B8: Odvodnja i betonski radovi | C8: ='03. Odvodnja i betonski'!F20 -> 0
A10: 04.00 | B10: Kolnička konstrukcija | C10: ='04. Kolnička konstrukcija'!F19 -> 0
A12: 05.00 | B12: Prometna signalizacija i završni radovi | C12: ='05. Prometna signalizacija i za'!F33 -> 0
B15: UKUPNO [EUR] (bez PDV-a): | C15: =SUM(C4:C12) -> 0
B17: PDV 25% [EUR]: | C17: =0.25*C15 -> 0
B19: UKUPNO [EUR] (sa PDV-om): | C19: =C15+C17 -> 0
B22: Potpis i pečat izvođača:
B28: Mjesto i datum:

Sheet 01. Pripremni radovi
A1: 01.00. | B1: PRIPREMNI RADOVI I RADOVI RAZGRADNJE | C1: MJ | D1: KOLIČINA | E1: JED. CIJENA | F1: UKUPNO (EUR)
A3: 01.01. | B3: GEODETSKI RADOVI
B4: Geodetski radovi pri izvođenju svih radova koji uključuju pozicijsko iskolčenje prometne površine pješačke staze uz postojeću prometnicu Trga Sv. Petra i Pavla i ulicama Međgaje i Put Javora u Mačkovcu, te svih potrebnih visina za vrijeme izvođenja radova, te sva mjerenja koja su u vezi sa prijenosom podataka iz projekata na teren i obrnuto, sve s ciljem pravilnog i preciznog izvođenja radova. Iskolčenje se vrši u položajnom i visinskom smislu. Potrebno je kontinuirano geodetsko praćenje te kontrolu svih radova tokom čitavog perioda njihova izvođenja uključivo izrada elaborata iskolčenja. Nakon završetka radova i kompletno izvedenih radova izvodi se izrada snimka visinskog i položajnog stanja građevine, geodetsko snimanje svih instalacija (dok su još vidljive) i objekata, te unos svih snimaka u katastar nekretnina i vodova. Potrebno je predati investitoru 3 primjerka tiskane i digitalne verzije snimaka i izjavu geodeta o usklađenosti izvedenog stanja sa glavnim projektom. U cijeni stavke svi navedeni radovi i prateći troškovi. Obračun po m1 planiranog zahvata pješačke staze koja se izvodi uz postojeću prometnicu.
B5: - prema opisu stavke | C5: m1 | D5: 340 | F5: =IF(ISNUMBER(D5),ROUND(E5*ROUND(D5,2),2),"") -> 0
A7: 01.02. | B7: VISINSKA KOREKCIJA POKLOPCA OKANA
B8: Visinska korekcija poklopaca revizijskih okana kanalizacije, vodovoda, elektroničke komunikacijske infrastrukture i ostalih instalacija zbog usklađivanja postojećeg stanja sa novoprojektiranim visinama prometnih površina ili zelenih površina terena. Stavka uključuje prema potrebi korekciju vađenjem, novom postavom sa dizanjem okvira i pripadajućeg poklopca, a ukoliko je potrebno izvesti izradu oplate potrebne visine korekcije dim. 0,80 x 0,80 m, dobavu i ugradnju armature i betona za betoniranje betonskih stijenki betonom C30/37 te ugradnju razgrađenog ljevanoželjeznog poklopca promjera 60 cm ili dim. 60 x 60cm na potrebnu visinu. Stavka obuhvaća komplet radova za konačno izvršenje radova. Obračun radova po kompletu izvršenih radova.
B9: - visinska korekcija postojećih poklopaca okana | C9: kom | D9: 9 | F9: =IF(ISNUMBER(D9),ROUND(E9*ROUND(D9,2),2),"") -> 0
A11: 01.03. | B11: REZANJE, UKLANJANJE ASFALTA i OPLOČNIKA
B12: Rezanje postojećeg ruba asfaltnog kolnikana mjestu izvedbe novih rubnjaka (10 cm od ruba asfalta) i na mjestu gdje se asfalt uklanja radi degradiranog i raspucalog stanja (poprečni rezovi postojećeg kolnika). Stavka uključuje rezanje asfaltnog kolnika prosječne debljine 6-10 cm koji je u oštećenom i raspucalom stanju te odstranjivanje odrezanog asfalta cijelom duljinom na mjestu reza asfalta i na mjestu gdje se radi zamjena tla širokim iskopom. Višak odrezanog i izvađenog asfalta potrebno je utovariti na prijevozno sredstvo, prevesti i deponirati te zbrinuti na odlagalištu otpada udaljenosti do 10 km. Na mjestu kolnog prilaza na privatnu parcelu vrši se uklanjanje postojećih opločnika i deponiranje na mjesto na parceli po želji vlasnika. Obračun po m' rezanja asfalta, m² uklonjenog asfalta i m² uklonjenih opločnika.
B13: - rezanje asfalta uz rub ceste i na mjestu poprečnog reza postojećeg kolnika debljine 6 -8 cm | C13: m' | D13: 165 | F13: =IF(ISNUMBER(D13),ROUND(E13*ROUND(D13,2),2),"") -> 0
B14: - uklanjanje odrezanog asfalta na mjestu vađenja površine postojeće asfalta u degradiranom i raspucalom stanju, te uz rub ceste , debljine 6-8 cm sa zbrinjavanjem | C14: m² | D14: 165 | F14: =IF(ISNUMBER(D14),ROUND(E14*ROUND(D14,2),2),"") -> 0
B15: - uklanjanje opločnika na mjestu kolnog prilaza i deponiranje na mjesto na parceli po želji vlasnika. | C15: m² | D15: 38.5 | F15: =IF(ISNUMBER(D15),ROUND(E15*ROUND(D15,2),2),"") -> 0
B17: PRIPREMNI RADOVI I RADOVI RAZGRADNJE: | E17: UKUPNO: | F17: =SUM(F2:F15) -> 0

Sheet 02. Zemljani radovi
A1: 02.00. | B1: ZEMLJANI RADOVI | C1: MJ | D1: KOLIČINA | E1: JED. CIJENA | F1: UKUPNO (EUR)
A3: 02.01. | B3: STROJNI ŠIROKI ISKOP
B4: Strojni široki iskop zemljanog materijala na mjestu nove pješačke staze, na mjestu zamjene postojećeg materijala u trupu ceste gdje je postojeći asfalt raspucao i nalazi se u degradiranom stanju, te na mjestu proširenja ceste. Iskop materijala se vrši gdje je radi projektirane pješačke staze potrebno izvršiti dovoljan iskop za navoz min. 40 cm tamponskog šljunka, te 50 cm na mjestu zamjene materijala prometnice te proširenja ceste na međuprostoru između postojeće prometnice te pješačke staze (0,4 m proširenja), te obostranog proširenja prometnice. Iskopani zemljani ili šljunčani materijal se deponira na gradilišnoj deponiji neposredno u blizini iskopa ili se utovaruje u prijevozno sredstvo i odvozi na gradilišnu deponiju, jer se isti koristi ako je u dobrom stanju za ponovno zatrpavanje. Obaveza izvođača je utvrđivanje područja i dubine iskopa prema nalogu nadzora za utvrđivanje postojeće dubine iskopa i debljine šljunka na postojećem dijelu prometnice gdje se vrši zamjena materijala novim šljunčanim i postojećim šljunčanim materijalom (koji se može iskoristiti).
B5: Višak materijala koji nije potreban za građenje odlaže se na stranu ili odvozi se na deponiju koju je dužan osigurati Izvođač radova uključeno i zbrinjavanje. Rad se mjeri u kubičnim metrima stvarno iskopanog materijala, mjereno u sraslom stanju, a u jediničnu cijenu potrebno je uračunati iskop materijala sa utovarom u prijevozna sredstva, te sve prateće radove planiranja i valjanja posteljice ukoliko je potrebno. Izvedba, kontrola kakvoće i obračun prema OTU 2-02.
B6: - prema opisu stavke | C6: m³ | D6: 521 | F6: =IF(ISNUMBER(D6),ROUND(E6*ROUND(D6,2),2),"") -> 0
A8: 02.02. | B8: UREĐENJE ZELENIH POVRŠINA
B9: Uređenje zelenog pojasa nakon izvođenja radova uz pješačku stazu ili rub prometnice primjenom zemljanog/humusnog materijala u sloju debljine 10-20 cm. Ovaj rad obuhvaća zaštitu pokosa zemljanog nasipa primjenom humusnog materijala i travnate vegetacije na površinama poprečnih presjeka u nasipu ili u zasjeku. Stavka obuhvaća sav materijal, prijevoz i potreban rad. Po fino uređenom humusnom sloju sije se trava. Vrsta i mješavina trave odabire se u ovisnosti o rastu vegetacije (količina sjemena iznosi oko 5,1-8,0 g/m2). Nakon izrade humusnog sloja i travnate vegetacije, površine se moraju njegovati do konačnog rasta i prema potrebi prvog otkosa.
B10: - prema punom opisu stavke | C10: m² | D10: 785 | F10: =IF(ISNUMBER(D10),ROUND(E10*ROUND(D10,2),2),"") -> 0
B12: ZEMLJANI RADOVI: | E12: UKUPNO: | F12: =SUM(F3:F10) -> 0

Sheet 03. Odvodnja i betonski
A1: 03.00. | B1: ODVODNJA i BETONSKI RADOVI | C1: MJ | D1: KOLIČINA | E1: JED. CIJENA | F1: UKUPNO (EUR)
A3: 03.01. | B3: IZRADA BETONSKOG SLIVNIKA S PRIKLJUČNIM CIJEVIMA
B4: Izrada betonskog slivnika Ø 500 mm sa slivnom ljevanoželjeznom rešetkom nosivosti 400 kN, ukupne dubine slivnika do 2,0 m (prema grafičkom detalju). Betonske cijevi moraju biti atestirane, a njihovu upotrebu odobrava nadzorni inženjer. Radovi uključuju iskop materijala uz svu potrebnu zaštitu stabilnosti jame, izrada temeljnog prstena slivnika betonom klase C25/30 sa betonskim dnom, probijanje zidova betonskih cijevi za priključne cijevi, uključujući priključne cijevi PVC-UKC, DN160 duljine od 6,0-8,0 m zavisno od udaljenosti od odvodnog kanala i koljenom od 90°, zatrpavanje šljunčanim materijalom ili materijalom iz iskopa oko i iznad priključnih cijevi i slivnika, izrada ispusta u kanal oblogom od betona ili lomljenog kamena te drugi radovi potrebni za potpuno dovršenje slivnika. U cijenu je uračunat sav rad i materijal uključujući i fazonske komade za potpuno dovršenje posla. Obračun se vrši po komadu izvedenog slivnika s rešetkom. Izvedba, kontrola kakvoće i obračun prema OTU za radove na cestama 3-04.5.1.
B5: - betonski slivnik Ø 500 mm s priključnim cijevima | C5: kom. | D5: 3 | F5: =D5*E5 -> 0
A7: 03.02. | B7: BETONSKI RUBNJACI 15/25 i 5/20 cm
B8: Izrada predgotovljenih betonskih rubnjaka dim. 15/25 cm (cestovni) i 5/20 cm (parkovni) u funkciji izvedbe i zaštite rubnog pojasa pješačke staze. Rubnjaci se izvode na prethodno izvedenu podlogu od svježeg betona C16/20 (oblaganjem betonom sa obje strane). Beton predgotovljenog rubnjaka mora biti klase C 35/45, sa dodatkom aeranta i superplastifikatora (v/c faktor ispod 0.45), otporan na cikluse smrzavanja i soli za odmrzavanje (MS56). Rad se mjeri u metrima (m') postavljenih rubnjaka prema detaljima iz projekta, uključivo s izvedbom podloge. Izvođač mora voditi računa o izvedbi cestovnih rubnjaka po visinoj većoj za +3cm kako bi se osigurao detalj izvedbe presvlačenja postojeće prometnice novim slojem asfalta. Izvedba, kontrola kakvoće i obračun prema OTU 3-04.7.1.
B9: - cestovni rubnjaci, dim 15/25 cm | C9: m' | D9: 162.5 | F9: =D9*E9 -> 0
B10: - parkovni rubnjaci, dim. 5/20 cm | C10: m' | D10: 175 | F10: =D10*E10 -> 0
A12: 03.03. | B12: UGRADNJA BETONSKIH OPLOČNIKA
B13: Nabava doprema i ugradnja betonskih opločnika dim. 20*20 ili 40*60 i 40*40 cm ili slično prema odobrenju projektanta, debljine 6 cm na mjestu nove pješačke staze. Rad obuhvaća izradu betonskih opločnika - ploča glatke kvarcne površine u bojama kompatibilnima sa postojećim opločnicima (siva boja i rubovi od tamno sive ili antracit boje), dobavu i dopremu, izradu podloge od kamenog drobljenog materijala 4-8mm u debljini 3-4 cm, zapuna reški opločnika fugiranjem čistim kvarcnim pijeskom granulacije 0.3-0.8mm (vrečiran iz tvorničke proizvodnje) i ugradnju opločnika prema projektu. Nakon ugradnje opločnika njihovu površinu nabiti vibronabijačima koji na radnoj ploči imaju gumenu podlogu. Rad se mjeri po m² potpuno gotovih opločnika, a plaća se po jediničnoj cijeni izvedbe u koju ulaze svi materijali, rad i prijevoz potrebni za potpuno dovršenje opločnika.
B14: - betonski opločnici, debljine 6 cm | C14: m² | D14: 282.5 | F14: =IF(ISNUMBER(D14),ROUND(E14*ROUND(D14,2),2),"") -> 0
A16: 03.04. | B16: PRODUŽENJE CIJEVNOG PROPUSTA
B17: Produženje postojećeg cijevnog propusta na način da se demontira postojeća betonska glava, produži postojeća betonska ili plastična cijev promjera fi 300-400mm, te ponovna montaža glave na novoj poziciji udaljene od postojeće za cca 1,0 m. Stavka uključuje betonske radove, te prethodni iskop oko betonske uljevne glave i naknadni iskop za prilagodbu odvodnog obodnog kanala uz cestu kako bi se nakon zahvata omogućila pravilna oborinska odvodnja.
C18: kom | D18: 1 | F18: =IF(ISNUMBER(D18),ROUND(E18*ROUND(D18,2),2),"") -> 0
B20: ODVODNJA i BETONSKI RADOVI: | E20: UKUPNO: | F20: =SUM(F3:F18) -> 0

Sheet 04. Kolnička konstrukcija
A1: 04.00. | B1: KOLNIČKA KONSTRUKCIJA | C1: MJ | D1: KOLIČINA | E1: JED. CIJENA | F1: UKUPNO (EUR)
A3: 04.01. | B3: IZRADA ŠLJUNČANOG TAMPONA
B4: Dobava, nasipavanje, planiranje i nabijanje tamponskog nosivog sloja od šljunčanog materijala, najvećeg zrna 63 mm na mjestu novih prometnih površina i nove pješačke staze. Tamponski sloj je debljine 50 cm ispod asfalta prometnice i 40 cm ispod pješačke staze te zbijenosti Ms≥ 80 i 60 MN/m². U cijenu je uključena dobava materijala, utovar, prijevoz i ugradnja (strojno razastiranje, planiranje i zbijanje do traženog modula stišljivosti ili stupnja zbijenosti) na uređenu i preuzetu podlogu. Obračun je po m³ ugrađenog materijala u zbijenom stanju. Izvedba, kontrola kakvoće i obračun prema OTU 5-01.
B5: - šljunčani tampon, deb. 40 i 50 cm | C5: m³ | D5: 511.5 | F5: =IF(ISNUMBER(D5),ROUND(E5*ROUND(D5,2),2),"") -> 0
A7: 04.02. | B7: ČIŠĆENJE I ŠPRICANJE POSTOJEĆEG ASFALTA
B8: Stavka obuhvaća radove čišćenja postojećeg asfalta prometnice te špricanje bitumenskom emulzijom prije izvođenja radova preasfaltiranja postojećeg asfalta. Obračun radova po m² čišćenja i špricanja podloge.
B9: - čišćenje i špricanje postojećeg asfalta bitumenskom emulzijom | C9: m² | D9: 1245 | F9: =IF(ISNUMBER(D9),ROUND(E9*ROUND(D9,2),2),"") -> 0
A11: 04.03. | B11: NOSIVI SLOJ ASFALTA AC22 base 50/70, d= 6,0cm
B12: Izrada nosivog sloja AC 22 base 50/70 debljine 6.0 cm na prometnim površinama gdje se vadi postojeći asfalt te uz rubnjak na međupojasu između postojeće prometnice i pješačke staze (proširenje prometnice). U cijeni su sadržani svi troškovi nabave materijala, proizvodnje i ugradnje asfaltne mješavine, prijevoz, oprema i sve ostalo potrebno za potpuno izvođenje radova. Obračun je po m² gornje površine stvarno položenog i ugrađenog nosivog sloja. Izvedba i kontrola kakvoće prema (HRN EN 13108-1 ili jednakovrijedno _______________) i tehničkim svojstvima i zahtjevima za građevne proizvode za proizvodnju asfaltnih mješavina i za asfaltne slojeve kolnika.
B13: - ugradnja asfalta AC 22 base 50/70, deb. 6 cm | C13: m² | D13: 653.7 | F13: =IF(ISNUMBER(D13),ROUND(E13*ROUND(D13,2),2),"") -> 0
A15: 04.04. | B15: HABAJUĆI SLOJ AC 11 surf 50/70
B16: Izrada habajućeg sloja AC 11 surf 50/70, debljine 3.0 - 4.0 cm na prometnim površinama koje se preasfaltiravaju. U cijeni su sadržani svi troškovi nabave materijala, proizvodnje i ugradnje asfaltne mješavine, prijevoz, oprema i sve ostalo što je potrebno za potpuno izvođenje radova. Obračun je po m² gornje površine stvarno položenog i ugrađenog habajućeg sloja. Izvedba i kontrola kakvoće prema (HRN EN 13108-1 ili jednakovrijedno _____________) i tehničkim svojstvima i zahtjevima za građevne proizvode za proizvodnju asfaltnih mješavina i za asfaltne slojeve kolnika.
B17: - ugradnja asfalta AC 11 surf 50/70, deb. 3-4 cm | C17: m² | D17: 1820.7 | F17: =IF(ISNUMBER(D17),ROUND(E17*ROUND(D17,2),2),"") -> 0
B19: KOLNIČKA KONSTRUKCIJA: | E19: UKUPNO: | F19: =SUM(F5:F17) -> 0

Sheet 05. Prometna signalizacija i za
A1: 05.00. | B1: PROMETNA SIGNALIZACIJA I ZAVRŠNI RADOVI | C1: MJ | D1: KOLIČINA | E1: JED. CIJENA | F1: UKUPNO (EUR)
B3: NAPOMENA! Prometni znakovi svojom vrstom, značenjem, oblikom, bojom, veličinom i načinom postavljanja trebaju biti u skladu s "Pravilnikom o prometnim znakovima, signalizaciji i opremi na cestama (NN 92/19)" te hrvatskim i europskim normama. Prometni znakovi pričvršćuju se na stupove koji su izrađeni od Fe cijevi i zaštićeni protiv korozije postupkom vrućeg cinčanja. Pri postavljanju prometni znak treba zakrenuti za 3-5° u odnosu na os prometnice da se izbjegne intenzivna refleksija i smanji kontrast oznaka, znaka i pozadine koja je osvijetljena. Na isti se stup ne smije postaviti više od dva prometna znaka. Stupovi znakova postavljaju se u betonske temelje minimalnog razreda betona C 20/25, oblika zarubljene piramide čije su stranice donjeg kvadrata 30 cm i gornjeg 20 cm.
A4: 05.01. | B4: PROMETNI ZNAKOVI
B5: Nabava, prijevoz i postavljanje prometnoga znaka sa stupovima i temeljima. Obračunava se prema broju postavljenih znakova određenih dimenzija, uključujući stupove i temelje, pri čemu se razlikuju lokacije prema broju znakova na jednom stupu (stup s jednim znakom – stup s dva znaka), lokacije s jednim znakom na dva stupa i lokacije s nosivom konstrukcijom. Obračun radova po komadu izvedenog prometnog znaka.
B6: - znak "STOP", B02 | C6: kom | D6: 2 | F6: =IF(ISNUMBER(D6),ROUND(E6*ROUND(D6,2),2),"") -> 0
B7: - znak pješačkog prijelaza, C02 | C7: kom | D7: 3 | F7: =IF(ISNUMBER(D7),ROUND(E7*ROUND(D7,2),2),"") -> 0
B8: - znak staze za pješake, B41 | C8: kom | D8: =1+H8 -> 1 | F8: =IF(ISNUMBER(D8),ROUND(E8*ROUND(D8,2),2),"") -> 0
B9: - znak za parkiranje vozila, C39 | C9: kom | D9: 1 | F9: =IF(ISNUMBER(D9),ROUND(E9*ROUND(D9,2),2),"") -> 0
B10: - znak za parkiranje vozila sa dopunskom pločom za parkiranje rezervirano za vozila osoba s invaliditetom, C39+E11 | C10: kom | D10: 1 | F10: =IF(ISNUMBER(D10),ROUND(E10*ROUND(D10,2),2),"") -> 0
A12: 05.02. | B12: OZNAKE NA KOLNIKU (HORIZONTALNA SIGNALIZACIJA)
B13: Ovaj rad obuhvaća izradu oznaka na kolniku za reguliranje prometa koje su definirane u Pravilniku o prometnim znakovima, signalizaciji i opremi na cestama (NN 92/19). Oznake na kolniku dijele se na: • uzdužne oznake na kolniku, • poprečne oznake na kolniku, • ostale oznake na kolniku. Boje i dimenzije oznaka određene su Pravilnikom i pripadajućim normama.
A15: 05.02.01. | B15: UZDUŽNE OZNAKE NA KOLNIKU
B16: Pod uzdužnim oznakama na kolniku razumijevaju se linije obilježene paralelno s osi kolnika, a služe za detaljno utvrđivanje načina upotrebe kolničke površine. Obračun se vrši po m' izvršenih radova.
B17: - isprekidana crta (razdjelna, rubna) H03, H07-2; š=12 cm bijela | C17: m' | D17: 155 | F17: =IF(ISNUMBER(D17),ROUND(E17*ROUND(D17,2),2),"") -> 0
B18: - puna crta (razdjelna, rubna) H01 i H02; š=12 cm bijela | C18: m' | D18: 285 | F18: =IF(ISNUMBER(D18),ROUND(E18*ROUND(D18,2),2),"") -> 0
A20: 05.02.02. | B20: POPREČNE OZNAKE NA KOLNIKU
B21: Pod poprečnim oznakama na kolniku razumijevaju se crte obilježene okomito na os kolnika, a služe za detaljno utvrđivanje načina upotrebe kolničke površine. Obračun se vrši po m' izvršenih radova.
B22: - obnavljanje postojećeg pješačkog prijelaza H19 - puna bijela; š=200 cm mjereno u ukupnoj površini zebre | C22: m2 | D22: 11 | F22: =IF(ISNUMBER(D22),ROUND(E22*ROUND(D22,2),2),"") -> 0
B23: - obnavljanje postojeće crte zaustavljanja H15 - isprekidana bijela; š=40 cm | C23: m1 | D23: 6 | F23: =IF(ISNUMBER(D23),ROUND(E23*ROUND(D23,2),2),"") -> 0
B24: - pješački prijelaz H19 - puna bijela; š=200 cm mjereno u ukupnoj površini zebre | C24: m2 | D24: 17.5 | F24: =IF(ISNUMBER(D24),ROUND(E24*ROUND(D24,2),2),"") -> 0
B25: - puna linija, poprečna zaustavna linija sa oznakom stop H14 -1 - puna bijela | C25: kom | D25: 1 | F25: =IF(ISNUMBER(D25),ROUND(E25*ROUND(D25,2),2),"") -> 0
B26: - linija okomitog parkirališta H61-1 - puna bijela š=10cm | C26: m1 | D26: 50 | F26: =IF(ISNUMBER(D26),ROUND(E26*ROUND(D26,2),2),"") -> 0
B27: - mjesto za parkiranje osoba s invaliditetom H57 - žute boje sa simbolom i šrafurom oznake invalida | C27: kom | D27: 1 | F27: =IF(ISNUMBER(D27),ROUND(E27*ROUND(D27,2),2),"") -> 0
A29: 05.03. | B29: ZAŠTITNA SIGURNOSNA PJEŠAČKA OGRADA
B30: Izvedba zaštitne sigurnosne ograde na mjestu cestovnog propusta za sprečavanje pada pješaka u odvodni jarak. Ograde (2 kom.) se izvode na postojećem betonskom parapetiću propusta (betonska glava propusta) od čeličnih cijevi promjera 50 mm, debljine stijenke 3 mm, dužine 2,50 m i visine 1,20 m sa osiguranjem 3 prečke od kojih je jedna rukohvat (2,5m) i 3 stupa (1,0m) sastavljene u cjelinu i potpunu funkciju. Ogradu je potrebno izvesti od pocinčanih cijevi te obojati u crvenu - bijelu boju s naizmjeničnim poljima duljine 25 cm kako bi bila vidljiva i uočljiva. Ista se ugrađuje na postojeći betonski zidić bušenjem i tiplanjem na istu. Stavka obuhvaća radove nabave, dobave i izrade ograde, bušenje, tiplanje i šarafljenje te postavljanje i bojanje sigurnosne ograde. Obračun radova po kompletu izvršenih zaštitnih sigurnosnih ograda s kompletom radova uz prethodno odobrenje radioničkog nacrta od strane nadzora.
B31: - prema opisu stavke | C31: kom | D31: 2 | F31: =IF(ISNUMBER(D31),ROUND(E31*ROUND(D31,2),2),"") -> 0
B33: PROMETNA SIGNALIZACIJA I ZAVRŠNI RADOVI | E33: UKUPNO: | F33: =SUM(F3:F32) -> 0
